BEGIN:VCALENDAR
VERSION:2.0
PRODID:-//IEB - ECPv6.15.16.1//NONSGML v1.0//EN
CALSCALE:GREGORIAN
METHOD:PUBLISH
X-ORIGINAL-URL:https://www.ieb.es
X-WR-CALDESC:Eventos para IEB
REFRESH-INTERVAL;VALUE=DURATION:PT1H
X-Robots-Tag:noindex
X-PUBLISHED-TTL:PT1H
BEGIN:VTIMEZONE
TZID:Europe/Madrid
BEGIN:DAYLIGHT
TZOFFSETFROM:+0100
TZOFFSETTO:+0200
TZNAME:CEST
DTSTART:20230326T010000
END:DAYLIGHT
BEGIN:STANDARD
TZOFFSETFROM:+0200
TZOFFSETTO:+0100
TZNAME:CET
DTSTART:20231029T010000
END:STANDARD
BEGIN:DAYLIGHT
TZOFFSETFROM:+0100
TZOFFSETTO:+0200
TZNAME:CEST
DTSTART:20240331T010000
END:DAYLIGHT
BEGIN:STANDARD
TZOFFSETFROM:+0200
TZOFFSETTO:+0100
TZNAME:CET
DTSTART:20241027T010000
END:STANDARD
BEGIN:DAYLIGHT
TZOFFSETFROM:+0100
TZOFFSETTO:+0200
TZNAME:CEST
DTSTART:20250330T010000
END:DAYLIGHT
BEGIN:STANDARD
TZOFFSETFROM:+0200
TZOFFSETTO:+0100
TZNAME:CET
DTSTART:20251026T010000
END:STANDARD
END:VTIMEZONE
BEGIN:VEVENT
DTSTART;VALUE=DATE:20240911
DTEND;VALUE=DATE:20240912
DTSTAMP:20260423T130035
CREATED:20240909T074526Z
LAST-MODIFIED:20240910T100226Z
UID:73202-1726012800-1726099199@www.ieb.es
SUMMARY:Finect Talent - Fecha límite de selección
DESCRIPTION:¡Llega Finect Talent\, El concurso para descubrir a los gestores de carteras del futuro! \nConectar la experiencia con la visión innovadora. Enlazar el presente con el futuro. Y ponerlo al servicio de la inversión. ¡Presentamos Finect Talent! IEB y FINECT se unen para canalizar el talento presente y futuro hacia un único objetivo: crear las mejores carteras de inversión. \n¿En qué consiste Finect Talent? \nFinect Talent es un concurso en el que tres equipos formados cada uno por 3 Alumni o alumnos de últimos cursos con intención de dedicarse al mundo de la gestión\, el asesoramiento o las inversiones\, compiten para diseñar y gestionar la mejor propuesta de inversión para un family office. No estarán solos en el proceso: les guiarán selectores y gestores\, escogidos de entre los mejores profesionales de la inversión\, que ejercerán de mentores en cada una de las fases. \n  \n \n  \nInscríbete a través de este enlace
URL:https://www.ieb.es/evento/finect-talent/
LOCATION:Madrid
ATTACH;FMTTYPE=image/png:https://www.ieb.es/wp-content/uploads/2024/09/FT-Banner600x250-2.png
END:VEVENT
BEGIN:VEVENT
DTSTART;VALUE=DATE:20240916
DTEND;VALUE=DATE:20240917
DTSTAMP:20260423T130035
CREATED:20240910T100346Z
LAST-MODIFIED:20240910T100459Z
UID:73220-1726444800-1726531199@www.ieb.es
SUMMARY:Finect Talent - Presentación de los finalistas
DESCRIPTION:¡Llega Finect Talent\, El concurso para descubrir a los gestores de carteras del futuro! \nConectar la experiencia con la visión innovadora. Enlazar el presente con el futuro. Y ponerlo al servicio de la inversión. ¡Presentamos Finect Talent! IEB y FINECT se unen para canalizar el talento presente y futuro hacia un único objetivo: crear las mejores carteras de inversión. \n¿En qué consiste Finect Talent? \nFinect Talent es un concurso en el que tres equipos formados cada uno por 3 Alumni o alumnos de últimos cursos con intención de dedicarse al mundo de la gestión\, el asesoramiento o las inversiones\, compiten para diseñar y gestionar la mejor propuesta de inversión para un family office. No estarán solos en el proceso: les guiarán selectores y gestores\, escogidos de entre los mejores profesionales de la inversión\, que ejercerán de mentores en cada una de las fases. \n 
URL:https://www.ieb.es/evento/finect-talent-presentacion-de-los-finalistas/
LOCATION:Madrid
ATTACH;FMTTYPE=image/png:https://www.ieb.es/wp-content/uploads/2024/09/FT-Banner600x250-2.png
END:VEVENT
BEGIN:VEVENT
DTSTART;VALUE=DATE:20240919
DTEND;VALUE=DATE:20240920
DTSTAMP:20260423T130035
CREATED:20240910T100558Z
LAST-MODIFIED:20240910T100652Z
UID:73225-1726704000-1726790399@www.ieb.es
SUMMARY:Finect Talent - Primera mentoría
DESCRIPTION:¡Llega Finect Talent\, El concurso para descubrir a los gestores de carteras del futuro! \nConectar la experiencia con la visión innovadora. Enlazar el presente con el futuro. Y ponerlo al servicio de la inversión. ¡Presentamos Finect Talent! IEB y FINECT se unen para canalizar el talento presente y futuro hacia un único objetivo: crear las mejores carteras de inversión. \n¿En qué consiste Finect Talent? \nFinect Talent es un concurso en el que tres equipos formados cada uno por 3 Alumni o alumnos de últimos cursos con intención de dedicarse al mundo de la gestión\, el asesoramiento o las inversiones\, compiten para diseñar y gestionar la mejor propuesta de inversión para un family office. No estarán solos en el proceso: les guiarán selectores y gestores\, escogidos de entre los mejores profesionales de la inversión\, que ejercerán de mentores en cada una de las fases. \n 
URL:https://www.ieb.es/evento/finect-talent-primera-mentoria/
LOCATION:Madrid
ATTACH;FMTTYPE=image/png:https://www.ieb.es/wp-content/uploads/2024/09/FT-Banner600x250-2.png
END:VEVENT
BEGIN:VEVENT
DTSTART;TZID=Europe/Madrid:20240920T093000
DTEND;TZID=Europe/Madrid:20240920T133000
DTSTAMP:20260423T130035
CREATED:20240912T114915Z
LAST-MODIFIED:20240913T110523Z
UID:73354-1726824600-1726839000@www.ieb.es
SUMMARY:IV Jornada de Orientadores: Desarrolla el talento de tus alumnos con profesionales
DESCRIPTION:En nombre del IEB\, nos complace invitarte a la IV Jornada de Orientadores: Desarrolla el talento de tus alumnos con profesionales en nuestro campus el viernes 20 de septiembre de 2024\, de 9:30h a 13:30h. \nContaremos con profesionales dedicados al mundo del talento: \n\nAntonio Manzanera Martínez- Fresneda\, Gerente de Selección y Desarrollo de Talento\, Enagás.\nTeresa Lecanda Pelayo\, Manager Talent Management\, LVMH Perfumes & Cosmetics\nTania Guillén García-Franco\,  Career Advisor\, Employer Relations\, IEB\n\nCon los que se podrá dialogar y compartir ideas junto con Orientadores\, directores\, jefes de estudios y profesores. \n\n\n¿Qué es el Talento?\n \n\n\nINSCRIPCIÓN
URL:https://www.ieb.es/evento/iv-jornada-de-orientadores-desarrolla-el-talento-de-tus-alumnos-con-profesionales/
LOCATION:Madrid
ATTACH;FMTTYPE=image/png:https://www.ieb.es/wp-content/uploads/2024/09/24_09_20_Evento-Orientadores_H.png
END:VEVENT
BEGIN:VEVENT
DTSTART;VALUE=DATE:20240924
DTEND;VALUE=DATE:20240925
DTSTAMP:20260423T130035
CREATED:20240910T104100Z
LAST-MODIFIED:20240910T104457Z
UID:73235-1727136000-1727222399@www.ieb.es
SUMMARY:1ª sesión de innovación Akademia - Fecha límite
DESCRIPTION:Estás terminando la carrera y te enfrentas a un periodo de incertidumbre. Es un momento vital lleno de interrogantes\, abrumador\, inquietante\, incierto\, pero también el punto de partida de tu futuro\, y el momento perfecto para complementar tu formación en áreas demandadas por las empresas. \nCon este objetivo\, Akademia\, iniciativa de la Fundación Innovación Bankinter\, ha lanzado sus sesiones de innovación para contribuir a un mañana de impacto. Estas jornadas formativas\, divididas en ocho sesiones online de hora y media e impartidas por una veintena de expertos\, abordan áreas como las nuevas fronteras de la energía\, el big data o el diseño de algoritmos de inteligencia artificial. Solo 90 alumnos (30 por cada una de las tres convocatorias) podrán recibir esta formación. \nPlazas limitadas. Para solicitar tu plaza a una de las tres convocatorias\, deberás inscribirte y enviar tu CV antes de la fecha límite. \n  \nINFORMACIÓN E INSCRIPCIÓN\n  \n\nCONVOCATORIA 1: \nLunes 16h-17h30\nDuración: del 21 de octubre al 20 de febrero de 2025\nFecha límite inscripción: 24 septiembre\n\n  \n\nCONVOCATORIA 2:\nMiércoles 12h30-14h00\nDuración: del 23 de octubre al 20 de febrero de 2025\nFecha límite inscripción: 1 octubre\n\n  \n\nCONVOCATORIA 3:\nViernes 12h-13h30\nDuración: del 18 de octubre al 20 de febrero de 2025\nFecha límite inscripción: 27 septiembre\n\n 
URL:https://www.ieb.es/evento/1a-sesion-de-innovacion-akademia-fecha-limite/
LOCATION:Madrid
ATTACH;FMTTYPE=image/png:https://www.ieb.es/wp-content/uploads/2024/09/20240829_BANKINTER_CARDS_UNIVERSIDADES_V2-20.png
END:VEVENT
BEGIN:VEVENT
DTSTART;TZID=Europe/Madrid:20240926T200000
DTEND;TZID=Europe/Madrid:20240926T213000
DTSTAMP:20260423T130035
CREATED:20240904T102839Z
LAST-MODIFIED:20240904T115137Z
UID:73131-1727380800-1727386200@www.ieb.es
SUMMARY:Banca privada vs banca de inversión
DESCRIPTION:Banca privada vs banca de inversión\n  \nPonentes: \n\nJosé María Revello de Toro\, Director del Máster en Corporate Finance y Banca de Inversión.\nSigfrido Vestrynge Vidaurreta\, Executive Director\, Bank J. Safra Sarasin. Profesor del Máster en Bolsa y Mercados Financieros.\n\n  \nInscríbete a través de este enlace\n 
URL:https://www.ieb.es/evento/banca-privada-vs-banca-de-inversion/
LOCATION:IEB\, Alfonso XI\, 6\, Madrid\, Madrid\, 28004\, España
ATTACH;FMTTYPE=image/png:https://www.ieb.es/wp-content/uploads/2024/09/24_09_26_Banca-Privada-vs-Banca-de-Inversion_H.png
END:VEVENT
BEGIN:VEVENT
DTSTART;VALUE=DATE:20240927
DTEND;VALUE=DATE:20240928
DTSTAMP:20260423T130035
CREATED:20240910T104734Z
LAST-MODIFIED:20240910T104734Z
UID:73246-1727395200-1727481599@www.ieb.es
SUMMARY:3ª sesión de innovación Akademia - Fecha límite
DESCRIPTION:Estás terminando la carrera y te enfrentas a un periodo de incertidumbre. Es un momento vital lleno de interrogantes\, abrumador\, inquietante\, incierto\, pero también el punto de partida de tu futuro\, y el momento perfecto para complementar tu formación en áreas demandadas por las empresas. \nCon este objetivo\, Akademia\, iniciativa de la Fundación Innovación Bankinter\, ha lanzado sus sesiones de innovación para contribuir a un mañana de impacto. Estas jornadas formativas\, divididas en ocho sesiones online de hora y media e impartidas por una veintena de expertos\, abordan áreas como las nuevas fronteras de la energía\, el big data o el diseño de algoritmos de inteligencia artificial. Solo 90 alumnos (30 por cada una de las tres convocatorias) podrán recibir esta formación. \nPlazas limitadas. Para solicitar tu plaza a una de las tres convocatorias\, deberás inscribirte y enviar tu CV antes de la fecha límite. \n  \nINFORMACIÓN E INSCRIPCIÓN\n  \n\nCONVOCATORIA 1: \nLunes 16h-17h30\nDuración: del 21 de octubre al 20 de febrero de 2025\nFecha límite inscripción: 24 septiembre\n\n  \n\nCONVOCATORIA 2:\nMiércoles 12h30-14h00\nDuración: del 23 de octubre al 20 de febrero de 2025\nFecha límite inscripción: 1 octubre\n\n  \n\nCONVOCATORIA 3:\nViernes 12h-13h30\nDuración: del 18 de octubre al 20 de febrero de 2025\nFecha límite inscripción: 27 septiembre\n\n 
URL:https://www.ieb.es/evento/3a-sesion-de-innovacion-akademia-fecha-limite/
LOCATION:Madrid
ATTACH;FMTTYPE=image/png:https://www.ieb.es/wp-content/uploads/2024/09/20240829_BANKINTER_CARDS_UNIVERSIDADES_V2-20.png
END:VEVENT
END:VCALENDAR