BEGIN:VCALENDAR
VERSION:2.0
PRODID:-//IEB - ECPv6.15.16.1//NONSGML v1.0//EN
CALSCALE:GREGORIAN
METHOD:PUBLISH
X-ORIGINAL-URL:https://www.ieb.es
X-WR-CALDESC:Eventos para IEB
REFRESH-INTERVAL;VALUE=DURATION:PT1H
X-Robots-Tag:noindex
X-PUBLISHED-TTL:PT1H
BEGIN:VTIMEZONE
TZID:Europe/Madrid
BEGIN:DAYLIGHT
TZOFFSETFROM:+0100
TZOFFSETTO:+0200
TZNAME:CEST
DTSTART:20220327T010000
END:DAYLIGHT
BEGIN:STANDARD
TZOFFSETFROM:+0200
TZOFFSETTO:+0100
TZNAME:CET
DTSTART:20221030T010000
END:STANDARD
BEGIN:DAYLIGHT
TZOFFSETFROM:+0100
TZOFFSETTO:+0200
TZNAME:CEST
DTSTART:20230326T010000
END:DAYLIGHT
BEGIN:STANDARD
TZOFFSETFROM:+0200
TZOFFSETTO:+0100
TZNAME:CET
DTSTART:20231029T010000
END:STANDARD
BEGIN:DAYLIGHT
TZOFFSETFROM:+0100
TZOFFSETTO:+0200
TZNAME:CEST
DTSTART:20240331T010000
END:DAYLIGHT
BEGIN:STANDARD
TZOFFSETFROM:+0200
TZOFFSETTO:+0100
TZNAME:CET
DTSTART:20241027T010000
END:STANDARD
END:VTIMEZONE
BEGIN:VEVENT
DTSTART;TZID=Europe/Madrid:20230418T183000
DTEND;TZID=Europe/Madrid:20230418T200000
DTSTAMP:20260424T134459
CREATED:20230228T174908Z
LAST-MODIFIED:20230228T174908Z
UID:65331-1681842600-1681848000@www.ieb.es
SUMMARY:La Relevancia Estratégica del Bitcoin en la Nueva Economía Digital
DESCRIPTION:La Relevancia Estratégica del Bitcoin en la Nueva Economía Digital\n  \nPonente: \n\nErnesto Revello Sánchez – Economista\, asesor financiero y mentor de inversores conscientes.\n\n  \nFormulario de Inscripción para la sesión
URL:https://www.ieb.es/evento/la-relevancia-estrategica-del-bitcoin-en-la-nueva-economia-digital/
LOCATION:IEB\, Alfonso XI\, 6\, Madrid\, Madrid\, 28004\, España
ATTACH;FMTTYPE=image/png:https://www.ieb.es/wp-content/uploads/2023/02/23_04_18_La-relevancia-estrategica-del-bitcoin-en-la-nueva-economia-digi.._.png
END:VEVENT
BEGIN:VEVENT
DTSTART;TZID=Europe/Madrid:20230419T190000
DTEND;TZID=Europe/Madrid:20230419T203000
DTSTAMP:20260424T134459
CREATED:20230307T170122Z
LAST-MODIFIED:20230307T170122Z
UID:65409-1681930800-1681936200@www.ieb.es
SUMMARY:Operaciones de M&A en el mundo del Agrobusiness
DESCRIPTION:Operaciones de M&A en el mundo del Agrobusiness\n  \nPonentes: \n\nAsier Ugaldea – CEO y Fundador\, IBERIAN SMART FINANCIAL AGRO («ISFA»)\nJuan Alberto Sánchez – Socio\, V4 Financial Partners.\n\n  \nModerador: \n\nJosé María Revello de Toro Cabello – Director del Máster de Corporate Finance y Banca de Inversión\, IEB.\n\n  \nFormulario de Inscripción para la sesión
URL:https://www.ieb.es/evento/operaciones-de-ma-en-el-mundo-del-agrobusiness/
LOCATION:IEB\, Alfonso XI\, 6\, Madrid\, Madrid\, 28004\, España
ATTACH;FMTTYPE=image/png:https://www.ieb.es/wp-content/uploads/2023/03/23_04_19_Operaciones-de-MA-en-el-mundo-del-Agrobusiness_H.png
END:VEVENT
BEGIN:VEVENT
DTSTART;TZID=Europe/Madrid:20230420T190000
DTEND;TZID=Europe/Madrid:20230420T203000
DTSTAMP:20260424T134459
CREATED:20230309T123234Z
LAST-MODIFIED:20230310T133410Z
UID:65420-1682017200-1682022600@www.ieb.es
SUMMARY:El Derecho y los desafíos de la Digitalización
DESCRIPTION:El Derecho y los desafíos de la Digitalización\n  \nPonentes: \n\nMoisés Barrio – Letrado del Consejo de Estado\, profesor de Derecho Digital.\nEva García – Directora de Innovación Legal\, Uría Menéndez.\nJoaquín Delgado – Magistrado en Audiencia Nacional.\nBeatriz Rodríguez Gómez – Socia\, Roca Junyent.\n\n  \nModerador: \n\nJosé Luis Pita da Veiga – Socio\, Roca Junyent.\n\n  \n  \nFormulario de Inscripción para la sesión
URL:https://www.ieb.es/evento/el-derecho-y-los-desafios-de-la-digitalizacion/
LOCATION:IEB\, Alfonso XI\, 6\, Madrid\, Madrid\, 28004\, España
ATTACH;FMTTYPE=image/png:https://www.ieb.es/wp-content/uploads/2023/03/23_04_20_El-derecho-y-los-desafios_H.png
END:VEVENT
END:VCALENDAR