BEGIN:VCALENDAR
VERSION:2.0
PRODID:-//IEB - ECPv6.15.16.1//NONSGML v1.0//EN
CALSCALE:GREGORIAN
METHOD:PUBLISH
X-WR-CALNAME:IEB
X-ORIGINAL-URL:https://www.ieb.es
X-WR-CALDESC:Eventos para IEB
REFRESH-INTERVAL;VALUE=DURATION:PT1H
X-Robots-Tag:noindex
X-PUBLISHED-TTL:PT1H
BEGIN:VTIMEZONE
TZID:Europe/Madrid
BEGIN:DAYLIGHT
TZOFFSETFROM:+0100
TZOFFSETTO:+0200
TZNAME:CEST
DTSTART:20210328T010000
END:DAYLIGHT
BEGIN:STANDARD
TZOFFSETFROM:+0200
TZOFFSETTO:+0100
TZNAME:CET
DTSTART:20211031T010000
END:STANDARD
BEGIN:DAYLIGHT
TZOFFSETFROM:+0100
TZOFFSETTO:+0200
TZNAME:CEST
DTSTART:20220327T010000
END:DAYLIGHT
BEGIN:STANDARD
TZOFFSETFROM:+0200
TZOFFSETTO:+0100
TZNAME:CET
DTSTART:20221030T010000
END:STANDARD
BEGIN:DAYLIGHT
TZOFFSETFROM:+0100
TZOFFSETTO:+0200
TZNAME:CEST
DTSTART:20230326T010000
END:DAYLIGHT
BEGIN:STANDARD
TZOFFSETFROM:+0200
TZOFFSETTO:+0100
TZNAME:CET
DTSTART:20231029T010000
END:STANDARD
END:VTIMEZONE
BEGIN:VEVENT
DTSTART;TZID=Europe/Madrid:20221214T183000
DTEND;TZID=Europe/Madrid:20221214T200000
DTSTAMP:20260424T194149
CREATED:20221201T122629Z
LAST-MODIFIED:20221201T163811Z
UID:63573-1671042600-1671048000@www.ieb.es
SUMMARY:¿Cómo afectará dominar las finanzas digitales a tu próximo empleo?
DESCRIPTION:¿Cómo afectará dominar las finanzas digitales a tu próximo empleo?\n  \nPonentes: \n\nMiguel Ángel Barrio – Director del Máster Online en Finanzas Digitales e Innovación.\nJuan Alberto Sánchez – Director del Máster Online en Blockchain e Inversión en Criptoactivos\n\n  \nFormulario de Inscripción para la sesión
URL:https://www.ieb.es/evento/como-afectara-dominar-las-finanzas-digitales-a-tu-proximo-empleo/
LOCATION:IEB\, Alfonso XI\, 6\, Madrid\, Madrid\, 28004\, España
ATTACH;FMTTYPE=image/png:https://www.ieb.es/wp-content/uploads/2022/12/22_12_14_Como-afectara-dominar-las-finanzas-digitales-a-tu-proximo-empl.._.png
END:VEVENT
END:VCALENDAR