BEGIN:VCALENDAR
VERSION:2.0
PRODID:-//IEB - ECPv6.15.16.1//NONSGML v1.0//EN
CALSCALE:GREGORIAN
METHOD:PUBLISH
X-WR-CALNAME:IEB
X-ORIGINAL-URL:https://www.ieb.es
X-WR-CALDESC:Eventos para IEB
REFRESH-INTERVAL;VALUE=DURATION:PT1H
X-Robots-Tag:noindex
X-PUBLISHED-TTL:PT1H
BEGIN:VTIMEZONE
TZID:Europe/Madrid
BEGIN:DAYLIGHT
TZOFFSETFROM:+0100
TZOFFSETTO:+0200
TZNAME:CEST
DTSTART:20210328T010000
END:DAYLIGHT
BEGIN:STANDARD
TZOFFSETFROM:+0200
TZOFFSETTO:+0100
TZNAME:CET
DTSTART:20211031T010000
END:STANDARD
BEGIN:DAYLIGHT
TZOFFSETFROM:+0100
TZOFFSETTO:+0200
TZNAME:CEST
DTSTART:20220327T010000
END:DAYLIGHT
BEGIN:STANDARD
TZOFFSETFROM:+0200
TZOFFSETTO:+0100
TZNAME:CET
DTSTART:20221030T010000
END:STANDARD
BEGIN:DAYLIGHT
TZOFFSETFROM:+0100
TZOFFSETTO:+0200
TZNAME:CEST
DTSTART:20230326T010000
END:DAYLIGHT
BEGIN:STANDARD
TZOFFSETFROM:+0200
TZOFFSETTO:+0100
TZNAME:CET
DTSTART:20231029T010000
END:STANDARD
END:VTIMEZONE
BEGIN:VEVENT
DTSTART;TZID=Europe/Madrid:20221107T190000
DTEND;TZID=Europe/Madrid:20221107T203000
DTSTAMP:20260424T212036
CREATED:20221020T102604Z
LAST-MODIFIED:20221020T104152Z
UID:62389-1667847600-1667853000@www.ieb.es
SUMMARY:La auditoría del siglo XXI: Perfiles retos y oportunidades
DESCRIPTION:La auditoría del siglo XXI: Perfiles retos y oportunidades\nModerador: \n\nFelipe Herranz – Director del Máster en Auditoría y Riesgos Financieros.\n\nPonentes: \n\nCleber Beretta Custodio – Quality & risk officer en Deloitte. Profesional especializado en fraude y going concern.\nAlberto Castilla – EMEIA ESG Solution Lead & Spanish Country Leader on the Sustainability & ESG practice en EY. Profesional especializado en Sostenibilidad.\nSergio González-Isla – Socio en KPMG España. Profesional especializado en Digitalización.\nStefan Mundorf – Chief Accountant en PwC España. Profesional especializado en Recursos Humanos.\n\n  \nFormulario de Inscripción para la sesión
URL:https://www.ieb.es/evento/la-auditoria-del-siglo-xxi-perfiles-retos-y-oportunidades/
LOCATION:IEB\, Alfonso XI\, 6\, Madrid\, Madrid\, 28004\, España
ATTACH;FMTTYPE=image/png:https://www.ieb.es/wp-content/uploads/2022/10/22_11_7_La-auditoria-del-sxxi_Perfiles-retos-y-oportunidades_-H.png
END:VEVENT
BEGIN:VEVENT
DTSTART;TZID=Europe/Madrid:20221129T183000
DTEND;TZID=Europe/Madrid:20221129T200000
DTSTAMP:20260424T212036
CREATED:20221107T174801Z
LAST-MODIFIED:20221115T175350Z
UID:62758-1669746600-1669752000@www.ieb.es
SUMMARY:Elecciones en el Colegio de Abogados: unas elecciones que marcarán tu futuro inmediato
DESCRIPTION:Elecciones en el Colegio de Abogados: unas elecciones que marcarán tu futuro inmediato\n  \nPonentes: \n\nIsabel Winkels Arce – Abogada y profesora del IEB.\nEmilio Ramírez – Socio Director de Ramírez & Crespo Abogados. Profesor del IEB.\nEugenio Ribón – Abogado y diputado en funciones en la Junta del Colegio de Abogados.\nAlejandro Rosillo – Abogado y profesor del IEB.\n\n  \nFormulario de Inscripción para la sesión
URL:https://www.ieb.es/evento/elecciones-en-el-colegio-de-abogados-unas-elecciones-que-marcaran-tu-futuro-inmediato/
LOCATION:IEB\, Alfonso XI\, 6\, Madrid\, Madrid\, 28004\, España
ATTACH;FMTTYPE=image/png:https://www.ieb.es/wp-content/uploads/2022/11/22_11_29_Elecciones-en-el-Colegio-de-Abogados_H.png
END:VEVENT
END:VCALENDAR