BEGIN:VCALENDAR
VERSION:2.0
PRODID:-//IEB - ECPv6.15.16.1//NONSGML v1.0//EN
CALSCALE:GREGORIAN
METHOD:PUBLISH
X-ORIGINAL-URL:https://www.ieb.es
X-WR-CALDESC:Eventos para IEB
REFRESH-INTERVAL;VALUE=DURATION:PT1H
X-Robots-Tag:noindex
X-PUBLISHED-TTL:PT1H
BEGIN:VTIMEZONE
TZID:Europe/Madrid
BEGIN:DAYLIGHT
TZOFFSETFROM:+0100
TZOFFSETTO:+0200
TZNAME:CEST
DTSTART:20210328T010000
END:DAYLIGHT
BEGIN:STANDARD
TZOFFSETFROM:+0200
TZOFFSETTO:+0100
TZNAME:CET
DTSTART:20211031T010000
END:STANDARD
BEGIN:DAYLIGHT
TZOFFSETFROM:+0100
TZOFFSETTO:+0200
TZNAME:CEST
DTSTART:20220327T010000
END:DAYLIGHT
BEGIN:STANDARD
TZOFFSETFROM:+0200
TZOFFSETTO:+0100
TZNAME:CET
DTSTART:20221030T010000
END:STANDARD
BEGIN:DAYLIGHT
TZOFFSETFROM:+0100
TZOFFSETTO:+0200
TZNAME:CEST
DTSTART:20230326T010000
END:DAYLIGHT
BEGIN:STANDARD
TZOFFSETFROM:+0200
TZOFFSETTO:+0100
TZNAME:CET
DTSTART:20231029T010000
END:STANDARD
END:VTIMEZONE
BEGIN:VEVENT
DTSTART;TZID=Europe/Madrid:20220613T183000
DTEND;TZID=Europe/Madrid:20220613T200000
DTSTAMP:20260425T051216
CREATED:20220606T105332Z
LAST-MODIFIED:20220606T105332Z
UID:60639-1655145000-1655150400@www.ieb.es
SUMMARY:Un análisis de la situación del Mundo Fintech en España
DESCRIPTION:Un análisis de la situación del Mundo Fintech en España\n  \nPonentes: \n\nJoaquín López Pascual – Profesor investigador\, Universidad Rey Juan Carlos.\nSalvador Cruz Rambaud – Profesor\, Universidad de Almería.\n\n  \nFormulario de Inscripción para la sesión
URL:https://www.ieb.es/evento/un-analisis-de-la-situacion-del-mundo-fintech-en-espana/
LOCATION:IEB\, Alfonso XI\, 6\, Madrid\, Madrid\, 28004\, España
ATTACH;FMTTYPE=image/png:https://www.ieb.es/wp-content/uploads/2022/06/22_06_13_Un-analisis-de-la-situacion-del-Mundo-Fintech-en-Espana_H.png
END:VEVENT
BEGIN:VEVENT
DTSTART;TZID=Europe/Madrid:20220615T193000
DTEND;TZID=Europe/Madrid:20220615T210000
DTSTAMP:20260425T051216
CREATED:20220601T232010Z
LAST-MODIFIED:20220601T232010Z
UID:60568-1655321400-1655326800@www.ieb.es
SUMMARY:Presentación del Máster en Mercados Financieros y Gestión de Activos
DESCRIPTION:Presentación del Máster en Mercados Financieros y Gestión de Activos\n  \nPonentes: \n\nJuan Abellán – Socio Director Formathe Consultores.\nJuan Ignacio Merino – Analista Senior de Performance\, Santander Asset Management.\nJorge Medina – Consejo Gestión de Activos\, Bankinter.\nJoseba Hidalgo – Alumni IEB. Analista de Mercados Financieros\, ADZ Trading Group SL.\n\nFormulario de Inscripción para la sesión
URL:https://www.ieb.es/evento/presentacion-del-master-en-mercados-financieros-y-gestion-de-activos/
LOCATION:IEB\, Alfonso XI\, 6\, Madrid\, Madrid\, 28004\, España
ATTACH;FMTTYPE=image/png:https://www.ieb.es/wp-content/uploads/2022/06/22_06_15_Presentacion-Master-en-Mercados-Financieros-y-Gestion-de-Activo....png
END:VEVENT
BEGIN:VEVENT
DTSTART;TZID=Europe/Madrid:20220620T080000
DTEND;TZID=Europe/Madrid:20220620T170000
DTSTAMP:20260425T051216
CREATED:20220601T074129Z
LAST-MODIFIED:20220601T075932Z
UID:60498-1655712000-1655744400@www.ieb.es
SUMMARY:Inicio del Curso Superior de Análisis Bursátil y Value Investing
DESCRIPTION:Este curso permitirá a los asistentes dominar los conceptos fundamentales para realizar inversiones en los mercados de renta variable. \n  \nMás información sobre el Curso
URL:https://www.ieb.es/evento/inicio-del-curso-superior-de-analisis-bursatil-y-value-investing/
LOCATION:IEB\, Alfonso XI\, 6\, Madrid\, Madrid\, 28004\, España
END:VEVENT
BEGIN:VEVENT
DTSTART;TZID=Europe/Madrid:20220620T080000
DTEND;TZID=Europe/Madrid:20220620T170000
DTSTAMP:20260425T051216
CREATED:20220601T075428Z
LAST-MODIFIED:20220601T075428Z
UID:60500-1655712000-1655744400@www.ieb.es
SUMMARY:Inicio del Curso Superior de Estrategias de Inversión y Gestión de Patrimonio
DESCRIPTION:Este curso permitirá a los asistentes aprender\, a través de una metodología práctica e ilustrativa\, tanto la teoría como los ejemplos prácticos más destacables de los mercados de Renta Fija\, Renta Variable y Mercados de Productos Derivados. \n  \nMás información sobre el Curso
URL:https://www.ieb.es/evento/inicio-del-curso-superior-de-estrategias-de-inversion-y-gestion-de-patrimonio/
LOCATION:IEB\, Alfonso XI\, 6\, Madrid\, Madrid\, 28004\, España
END:VEVENT
BEGIN:VEVENT
DTSTART;TZID=Europe/Madrid:20220620T080000
DTEND;TZID=Europe/Madrid:20220620T170000
DTSTAMP:20260425T051216
CREATED:20220601T075817Z
LAST-MODIFIED:20220601T075817Z
UID:60506-1655712000-1655744400@www.ieb.es
SUMMARY:Inicio del Curso Superior de Gestión Financiera de la empresa
DESCRIPTION:Este curso permitirá a los asistentes anticiparse y la toma de decisiones gestionando las actividades de carácter financiero\, así como sus implicaciones estratégicas. \n  \nMás información
URL:https://www.ieb.es/evento/inicio-del-curso-superior-de-gestion-financiera-de-la-empresa/
LOCATION:IEB\, Alfonso XI\, 6\, Madrid\, Madrid\, 28004\, España
END:VEVENT
BEGIN:VEVENT
DTSTART;TZID=Europe/Madrid:20220620T080000
DTEND;TZID=Europe/Madrid:20220620T170000
DTSTAMP:20260425T051216
CREATED:20220601T080254Z
LAST-MODIFIED:20220601T080254Z
UID:60511-1655712000-1655744400@www.ieb.es
SUMMARY:Inicio del Curso Superior de Marketing Digital
DESCRIPTION:Descubre la mejor manera de sacar partido a las Redes Sociales para conectar con los clientes a través de canales online \n  \nMás información
URL:https://www.ieb.es/evento/inicio-del-curso-superior-de-marketing-digital/
LOCATION:IEB\, Alfonso XI\, 6\, Madrid\, Madrid\, 28004\, España
END:VEVENT
BEGIN:VEVENT
DTSTART;TZID=Europe/Madrid:20220621T080000
DTEND;TZID=Europe/Madrid:20220621T170000
DTSTAMP:20260425T051216
CREATED:20220601T080053Z
LAST-MODIFIED:20220601T080053Z
UID:60509-1655798400-1655830800@www.ieb.es
SUMMARY:Inicio del Curso Superior de Legaltech
DESCRIPTION:El mundo jurídico está atravesando un proceso de transformación sin precedentes. Las nuevas tecnologías y las metodologías de trabajo innovadoras están impactando no sólo a las materias objeto de estudio jurídico sino a la práctica del derecho y a los modelos de negocio tradicionales que imperan en el sector. \n  \nMás información
URL:https://www.ieb.es/evento/inicio-del-curso-superior-de-legaltech/
LOCATION:IEB\, Alfonso XI\, 6\, Madrid\, Madrid\, 28004\, España
END:VEVENT
BEGIN:VEVENT
DTSTART;TZID=Europe/Madrid:20220629T080000
DTEND;TZID=Europe/Madrid:20220629T170000
DTSTAMP:20260425T051216
CREATED:20220601T075530Z
LAST-MODIFIED:20220601T075621Z
UID:60503-1656489600-1656522000@www.ieb.es
SUMMARY:Inicio del Curso Superior de Fondos de Inversión y Asesoramiento a Empresas
DESCRIPTION:Este curso está centrado en las diferentes áreas del mundo financiero\, con especial enfoque en los mercados\, las alternativas de inversión existentes y la coyuntura actual. \n  \nMás información sobre el Curso
URL:https://www.ieb.es/evento/inicio-del-curso-superior-de-fondos-de-inversion-y-asesoramiento-a-empresas/
LOCATION:IEB\, Alfonso XI\, 6\, Madrid\, Madrid\, 28004\, España
END:VEVENT
BEGIN:VEVENT
DTSTART;TZID=Europe/Madrid:20220629T190000
DTEND;TZID=Europe/Madrid:20220629T203000
DTSTAMP:20260425T051216
CREATED:20220623T152958Z
LAST-MODIFIED:20220627T150914Z
UID:60850-1656529200-1656534600@www.ieb.es
SUMMARY:Conviértete en Planificador Financiero
DESCRIPTION:Conviértete en Planificador Financiero\n  \nPonentes: \n\nGuillermo Domínguez – Socio Director Castilla y León\, Tressis.\nJesús Mariñas – Director\, JDS\, Agencia de Valores en Pamplona.\nSalvador Mas – Director de Planificación Financiera\, AllFunds Bank.\nFernando Estévez – Secretario General\, Diaphanum.\nJesús Pérez Pérez – Director Acreditaciones €FPA.\nJorge González Olivares – Private Banker\, Banco Mediolanum.\n\n  \nFormulario de Inscripción para la sesión
URL:https://www.ieb.es/evento/conviertete-en-planificador-financiero/
LOCATION:IEB\, Alfonso XI\, 6\, Madrid\, Madrid\, 28004\, España
ATTACH;FMTTYPE=image/png:https://www.ieb.es/wp-content/uploads/2022/06/22_06_29_Conviertete-en-planificador-financiero_H.png
END:VEVENT
BEGIN:VEVENT
DTSTART;TZID=Europe/Madrid:20220630T200000
DTEND;TZID=Europe/Madrid:20220630T213000
DTSTAMP:20260425T051216
CREATED:20220524T095614Z
LAST-MODIFIED:20220606T163825Z
UID:60412-1656619200-1656624600@www.ieb.es
SUMMARY:Panel de jóvenes profesionales de la Banca de Inversión
DESCRIPTION:Panel de jóvenes profesionales de la Banca de Inversión\n  \nModeradores: \n\nPedro Garrido – Head of Corporate Lending UK & Northern Europe\, BBVA.\nJosé María Revello de Toro – Director del Máster en Corporate Finance y Banca de Inversión\, IEB.\n\n  \nPonentes: \n\nClarissa Matos – M&A Director\, Telefónica Tech.\nCarlos Medina – R&C – Illiquid & Alternative Assets\, Santander Asset Management.\nIván Rodas – M&A Senior Associate | Deals\, PwC.\nFernando Sancha – Alternative Investments en Bankinter Investment.\n\nFormulario de Inscripción para la sesión
URL:https://www.ieb.es/evento/panel-de-jovenes-profesionales-de-la-banca-de-inversion/
LOCATION:IEB\, Alfonso XI\, 6\, Madrid\, Madrid\, 28004\, España
ATTACH;FMTTYPE=image/png:https://www.ieb.es/wp-content/uploads/2022/05/22_06_30_Panel-jovenes-profesionales-de-la-Banca-de-Inversion_H-005.png
END:VEVENT
END:VCALENDAR