BEGIN:VCALENDAR
VERSION:2.0
PRODID:-//IEB - ECPv6.15.16.1//NONSGML v1.0//EN
CALSCALE:GREGORIAN
METHOD:PUBLISH
X-WR-CALNAME:IEB
X-ORIGINAL-URL:https://www.ieb.es
X-WR-CALDESC:Eventos para IEB
REFRESH-INTERVAL;VALUE=DURATION:PT1H
X-Robots-Tag:noindex
X-PUBLISHED-TTL:PT1H
BEGIN:VTIMEZONE
TZID:Europe/Madrid
BEGIN:DAYLIGHT
TZOFFSETFROM:+0100
TZOFFSETTO:+0200
TZNAME:CEST
DTSTART:20250330T010000
END:DAYLIGHT
BEGIN:STANDARD
TZOFFSETFROM:+0200
TZOFFSETTO:+0100
TZNAME:CET
DTSTART:20251026T010000
END:STANDARD
BEGIN:DAYLIGHT
TZOFFSETFROM:+0100
TZOFFSETTO:+0200
TZNAME:CEST
DTSTART:20260329T010000
END:DAYLIGHT
BEGIN:STANDARD
TZOFFSETFROM:+0200
TZOFFSETTO:+0100
TZNAME:CET
DTSTART:20261025T010000
END:STANDARD
BEGIN:DAYLIGHT
TZOFFSETFROM:+0100
TZOFFSETTO:+0200
TZNAME:CEST
DTSTART:20270328T010000
END:DAYLIGHT
BEGIN:STANDARD
TZOFFSETFROM:+0200
TZOFFSETTO:+0100
TZNAME:CET
DTSTART:20271031T010000
END:STANDARD
END:VTIMEZONE
BEGIN:VEVENT
DTSTART;TZID=Europe/Madrid:20260420T190000
DTEND;TZID=Europe/Madrid:20260420T200000
DTSTAMP:20260423T001042
CREATED:20260409T112937Z
LAST-MODIFIED:20260421T071004Z
UID:80554-1776711600-1776715200@www.ieb.es
SUMMARY:Jornada de Modelización Financiera: Corporate Finance y Banca de Inversión
DESCRIPTION:Jornada de Modelización Financiera: Corporate Finance y Banca de Inversión\n20 de abril a las 19:00h \nPonente:\n\nJacobo Cuadrado Arévalo. Director del Curso de Construcción y Análisis de Modelos Financieros\, IEB – European Financial Advisor\, EFA
URL:https://www.ieb.es/evento/jornada-de-modelizacion-financiera-corporate-finance-y-banca-de-inversion/
LOCATION:Nuevo campus IEB\, Avenida del Talgo\, nº 5\, Madrid\, Madrid\, 28023\, Spain
CATEGORIES:Convención / Jornadas
ATTACH;FMTTYPE=image/png:https://www.ieb.es/wp-content/uploads/2026/04/26_04_20_Jornada-Modelizacion_H.png
END:VEVENT
END:VCALENDAR