BEGIN:VCALENDAR
VERSION:2.0
PRODID:-//IEB - ECPv6.15.20//NONSGML v1.0//EN
CALSCALE:GREGORIAN
METHOD:PUBLISH
X-ORIGINAL-URL:https://www.ieb.es
X-WR-CALDESC:Eventos para IEB
REFRESH-INTERVAL;VALUE=DURATION:PT1H
X-Robots-Tag:noindex
X-PUBLISHED-TTL:PT1H
BEGIN:VTIMEZONE
TZID:Europe/Madrid
BEGIN:DAYLIGHT
TZOFFSETFROM:+0100
TZOFFSETTO:+0200
TZNAME:CEST
DTSTART:20210328T010000
END:DAYLIGHT
BEGIN:STANDARD
TZOFFSETFROM:+0200
TZOFFSETTO:+0100
TZNAME:CET
DTSTART:20211031T010000
END:STANDARD
BEGIN:DAYLIGHT
TZOFFSETFROM:+0100
TZOFFSETTO:+0200
TZNAME:CEST
DTSTART:20220327T010000
END:DAYLIGHT
BEGIN:STANDARD
TZOFFSETFROM:+0200
TZOFFSETTO:+0100
TZNAME:CET
DTSTART:20221030T010000
END:STANDARD
BEGIN:DAYLIGHT
TZOFFSETFROM:+0100
TZOFFSETTO:+0200
TZNAME:CEST
DTSTART:20230326T010000
END:DAYLIGHT
BEGIN:STANDARD
TZOFFSETFROM:+0200
TZOFFSETTO:+0100
TZNAME:CET
DTSTART:20231029T010000
END:STANDARD
END:VTIMEZONE
BEGIN:VEVENT
DTSTART;TZID=Europe/Madrid:20220314T100000
DTEND;TZID=Europe/Madrid:20220314T104500
DTSTAMP:20260425T235127
CREATED:20220225T103356Z
LAST-MODIFIED:20220228T160622Z
UID:58789-1647252000-1647254700@www.ieb.es
SUMMARY:Conversaciones sostenibles: Taxonomía verde en la Unión Europea
DESCRIPTION:Conversaciones sostenibles: Taxonomía verde en la Unión Europea\nPonente: \n\nHelena Viñez – Consejera y Rapporteur EU Platform on Sustainable Finance\, CNMV.\n\n  \nFormulario de Inscripción para la sesión
URL:https://www.ieb.es/evento/conversaciones-sostenibles-taxonomia-verde-en-la-union-europea/
LOCATION:IEB\, Alfonso XI\, 6\, Madrid\, Madrid\, 28004\, España
CATEGORIES:Convención / Jornadas
ATTACH;FMTTYPE=image/jpeg:https://www.ieb.es/wp-content/uploads/2022/02/webinar_sostenibilidad_22_03_14_H-scaled.jpg
END:VEVENT
END:VCALENDAR