BEGIN:VCALENDAR
VERSION:2.0
PRODID:-//IEB - ECPv6.15.20//NONSGML v1.0//EN
CALSCALE:GREGORIAN
METHOD:PUBLISH
X-ORIGINAL-URL:https://www.ieb.es
X-WR-CALDESC:Eventos para IEB
REFRESH-INTERVAL;VALUE=DURATION:PT1H
X-Robots-Tag:noindex
X-PUBLISHED-TTL:PT1H
BEGIN:VTIMEZONE
TZID:Europe/Madrid
BEGIN:DAYLIGHT
TZOFFSETFROM:+0100
TZOFFSETTO:+0200
TZNAME:CEST
DTSTART:20210328T010000
END:DAYLIGHT
BEGIN:STANDARD
TZOFFSETFROM:+0200
TZOFFSETTO:+0100
TZNAME:CET
DTSTART:20211031T010000
END:STANDARD
BEGIN:DAYLIGHT
TZOFFSETFROM:+0100
TZOFFSETTO:+0200
TZNAME:CEST
DTSTART:20220327T010000
END:DAYLIGHT
BEGIN:STANDARD
TZOFFSETFROM:+0200
TZOFFSETTO:+0100
TZNAME:CET
DTSTART:20221030T010000
END:STANDARD
BEGIN:DAYLIGHT
TZOFFSETFROM:+0100
TZOFFSETTO:+0200
TZNAME:CEST
DTSTART:20230326T010000
END:DAYLIGHT
BEGIN:STANDARD
TZOFFSETFROM:+0200
TZOFFSETTO:+0100
TZNAME:CET
DTSTART:20231029T010000
END:STANDARD
END:VTIMEZONE
BEGIN:VEVENT
DTSTART;TZID=Europe/Madrid:20220310T183000
DTEND;TZID=Europe/Madrid:20220310T183000
DTSTAMP:20260425T235127
CREATED:20220221T172152Z
LAST-MODIFIED:20220221T172744Z
UID:58685-1646937000-1646937000@www.ieb.es
SUMMARY:Ejemplo real de cómo reducir el riesgo de la cartera añadiendo opciones
DESCRIPTION:Ejemplo real de cómo reducir el riesgo de la cartera añadiendo opciones\nPonentes: \n\nMiguel Ángel Cicuéndez Luna – Socio Director\, Consulae EAF. Vicepresidente de ASEAFI.\n\nFormulario de Inscripción para la sesión
URL:https://www.ieb.es/evento/ejemplo-real-de-como-reducir-el-riesgo-de-la-cartera-anadiendo-opciones/
LOCATION:IEB\, Alfonso XI\, 6\, Madrid\, Madrid\, 28004\, España
CATEGORIES:Convención / Jornadas
ATTACH;FMTTYPE=image/png:https://www.ieb.es/wp-content/uploads/2022/02/EJEMPLO-REAL-DE-COMO-REDUCIR-EL-RIESGO-DE-LA-CARTERA-ANADIENDO-OPCIONES_....png
END:VEVENT
END:VCALENDAR