BEGIN:VCALENDAR
VERSION:2.0
PRODID:-//IEB - ECPv6.15.20//NONSGML v1.0//EN
CALSCALE:GREGORIAN
METHOD:PUBLISH
X-WR-CALNAME:IEB
X-ORIGINAL-URL:https://www.ieb.es
X-WR-CALDESC:Eventos para IEB
REFRESH-INTERVAL;VALUE=DURATION:PT1H
X-Robots-Tag:noindex
X-PUBLISHED-TTL:PT1H
BEGIN:VTIMEZONE
TZID:Europe/Madrid
BEGIN:DAYLIGHT
TZOFFSETFROM:+0100
TZOFFSETTO:+0200
TZNAME:CEST
DTSTART:20210328T010000
END:DAYLIGHT
BEGIN:STANDARD
TZOFFSETFROM:+0200
TZOFFSETTO:+0100
TZNAME:CET
DTSTART:20211031T010000
END:STANDARD
BEGIN:DAYLIGHT
TZOFFSETFROM:+0100
TZOFFSETTO:+0200
TZNAME:CEST
DTSTART:20220327T010000
END:DAYLIGHT
BEGIN:STANDARD
TZOFFSETFROM:+0200
TZOFFSETTO:+0100
TZNAME:CET
DTSTART:20221030T010000
END:STANDARD
BEGIN:DAYLIGHT
TZOFFSETFROM:+0100
TZOFFSETTO:+0200
TZNAME:CEST
DTSTART:20230326T010000
END:DAYLIGHT
BEGIN:STANDARD
TZOFFSETFROM:+0200
TZOFFSETTO:+0100
TZNAME:CET
DTSTART:20231029T010000
END:STANDARD
END:VTIMEZONE
BEGIN:VEVENT
DTSTART;TZID=Europe/Madrid:20220308T183000
DTEND;TZID=Europe/Madrid:20220308T200000
DTSTAMP:20260425T235026
CREATED:20220214T115844Z
LAST-MODIFIED:20220215T160506Z
UID:58434-1646764200-1646769600@www.ieb.es
SUMMARY:El peso de los intangibles en la valoración de las empresas en los mercados
DESCRIPTION:El peso de los intangibles en la valoración de las empresas en los mercados\nLA MARCA Y LA COMUNICACIÓN COMO PALANCA DE CRECIMIENTO DE VALOR \nMartes 8 de marzo\, a las 18:30 horas. \nPonentes: \n\nBorja Oria – Socio. CEO de Banca de Inversión en Arcano Partners.\nJavier Amo – Director General de Iberiacards\, presidente de Aras Partners Bank\, y director del Máster en Bolsa y Mercados Financieros.\nAlberto Blanco – CEO de BigDatil y profesor del Máster en Bolsa y Mercados Financieros del IEB.\nAlain Uceda – CCO de BigDatil y profesor del Máster en Comunicación del Instituto RTVE.\n\nFormulario de Inscripción para la sesión
URL:https://www.ieb.es/evento/el-peso-de-los-intangibles-en-la-valoracion-de-las-empresas-en-los-mercados/
LOCATION:IEB\, Alfonso XI\, 6\, Madrid\, Madrid\, 28004\, España
CATEGORIES:Convención / Jornadas
ATTACH;FMTTYPE=image/png:https://www.ieb.es/wp-content/uploads/2022/02/El-peso-de-los-intangibles_H.png
END:VEVENT
END:VCALENDAR