BEGIN:VCALENDAR
VERSION:2.0
PRODID:-//IEB - ECPv6.15.20//NONSGML v1.0//EN
CALSCALE:GREGORIAN
METHOD:PUBLISH
X-WR-CALNAME:IEB
X-ORIGINAL-URL:https://www.ieb.es
X-WR-CALDESC:Eventos para IEB
REFRESH-INTERVAL;VALUE=DURATION:PT1H
X-Robots-Tag:noindex
X-PUBLISHED-TTL:PT1H
BEGIN:VTIMEZONE
TZID:Europe/Madrid
BEGIN:DAYLIGHT
TZOFFSETFROM:+0100
TZOFFSETTO:+0200
TZNAME:CEST
DTSTART:20210328T010000
END:DAYLIGHT
BEGIN:STANDARD
TZOFFSETFROM:+0200
TZOFFSETTO:+0100
TZNAME:CET
DTSTART:20211031T010000
END:STANDARD
BEGIN:DAYLIGHT
TZOFFSETFROM:+0100
TZOFFSETTO:+0200
TZNAME:CEST
DTSTART:20220327T010000
END:DAYLIGHT
BEGIN:STANDARD
TZOFFSETFROM:+0200
TZOFFSETTO:+0100
TZNAME:CET
DTSTART:20221030T010000
END:STANDARD
BEGIN:DAYLIGHT
TZOFFSETFROM:+0100
TZOFFSETTO:+0200
TZNAME:CEST
DTSTART:20230326T010000
END:DAYLIGHT
BEGIN:STANDARD
TZOFFSETFROM:+0200
TZOFFSETTO:+0100
TZNAME:CET
DTSTART:20231029T010000
END:STANDARD
END:VTIMEZONE
BEGIN:VEVENT
DTSTART;TZID=Europe/Madrid:20220303T190000
DTEND;TZID=Europe/Madrid:20220303T210000
DTSTAMP:20260425T235023
CREATED:20220211T132133Z
LAST-MODIFIED:20220303T102433Z
UID:58369-1646334000-1646341200@www.ieb.es
SUMMARY:La crisis de Ucrania en el marco de las Relaciones internacionales
DESCRIPTION:La crisis de Ucrania en el marco de las Relaciones internacionales: Posibles escenarios e implicaciones jurídicas\, militares y económicas\nModerador: \n\nJoaquín Danvila – Jefe del Departamento de Formación y Desarrollo Digital del IEB.\n\nPonentes: \n\nJosé María Viñals – Director del Máster en Relaciones Internacionales del IEB; y socio en Squire Patton Boggs.\nEnrique Navarro – Consejero Skydweller Aero.\nMario Weitz – Director General de Consulta Abierta\, Ex-Consejero\, FMI.\n\n  \nFormulario de Inscripción para la sesión
URL:https://www.ieb.es/evento/la-crisis-de-ucrania-en-el-marco-de-las-relaciones-internacionales/
LOCATION:IEB\, Alfonso XI\, 6\, Madrid\, Madrid\, 28004\, España
CATEGORIES:Convención / Jornadas
ATTACH;FMTTYPE=image/jpeg:https://www.ieb.es/wp-content/uploads/2022/02/Crisis-Ucrania-y-RRII_H-scaled.jpg
END:VEVENT
END:VCALENDAR