BEGIN:VCALENDAR
VERSION:2.0
PRODID:-//IEB - ECPv6.15.20//NONSGML v1.0//EN
CALSCALE:GREGORIAN
METHOD:PUBLISH
X-WR-CALNAME:IEB
X-ORIGINAL-URL:https://www.ieb.es
X-WR-CALDESC:Eventos para IEB
REFRESH-INTERVAL;VALUE=DURATION:PT1H
X-Robots-Tag:noindex
X-PUBLISHED-TTL:PT1H
BEGIN:VTIMEZONE
TZID:Europe/Madrid
BEGIN:DAYLIGHT
TZOFFSETFROM:+0100
TZOFFSETTO:+0200
TZNAME:CEST
DTSTART:20210328T010000
END:DAYLIGHT
BEGIN:STANDARD
TZOFFSETFROM:+0200
TZOFFSETTO:+0100
TZNAME:CET
DTSTART:20211031T010000
END:STANDARD
BEGIN:DAYLIGHT
TZOFFSETFROM:+0100
TZOFFSETTO:+0200
TZNAME:CEST
DTSTART:20220327T010000
END:DAYLIGHT
BEGIN:STANDARD
TZOFFSETFROM:+0200
TZOFFSETTO:+0100
TZNAME:CET
DTSTART:20221030T010000
END:STANDARD
BEGIN:DAYLIGHT
TZOFFSETFROM:+0100
TZOFFSETTO:+0200
TZNAME:CEST
DTSTART:20230326T010000
END:DAYLIGHT
BEGIN:STANDARD
TZOFFSETFROM:+0200
TZOFFSETTO:+0100
TZNAME:CET
DTSTART:20231029T010000
END:STANDARD
END:VTIMEZONE
BEGIN:VEVENT
DTSTART;TZID=Europe/Madrid:20220224T170000
DTEND;TZID=Europe/Madrid:20220224T190000
DTSTAMP:20260426T012858
CREATED:20220207T154452Z
LAST-MODIFIED:20220208T172826Z
UID:58207-1645722000-1645729200@www.ieb.es
SUMMARY:Cómo usar las Finanzas Cuantitativas para trabajar como consultor en una Big Four
DESCRIPTION:Cómo usar las Finanzas Cuantitativas para trabajar como consultor en una Big Four\nPonentes: \n\nOscar Gil Flores – Principal Manager\, Global Platforms Support\, GRM\, BBVA\nJosé Lope Alba – Head of Quantitative Analysis\, Wind to Make\n\n  \nFormulario de Inscripción para la sesión
URL:https://www.ieb.es/evento/como-usar-las-finanzas-cuantitativas-para-trabajar-como-consultor-en-una-big-four/
LOCATION:IEB\, Alfonso XI\, 6\, Madrid\, Madrid\, 28004\, España
CATEGORIES:Convención / Jornadas
ATTACH;FMTTYPE=image/png:https://www.ieb.es/wp-content/uploads/2022/02/Finanzas-Cuantitativas_Big4_H.png
END:VEVENT
END:VCALENDAR