BEGIN:VCALENDAR
VERSION:2.0
PRODID:-//IEB - ECPv6.15.20//NONSGML v1.0//EN
CALSCALE:GREGORIAN
METHOD:PUBLISH
X-WR-CALNAME:IEB
X-ORIGINAL-URL:https://www.ieb.es
X-WR-CALDESC:Eventos para IEB
REFRESH-INTERVAL;VALUE=DURATION:PT1H
X-Robots-Tag:noindex
X-PUBLISHED-TTL:PT1H
BEGIN:VTIMEZONE
TZID:Europe/Madrid
BEGIN:DAYLIGHT
TZOFFSETFROM:+0100
TZOFFSETTO:+0200
TZNAME:CEST
DTSTART:20210328T010000
END:DAYLIGHT
BEGIN:STANDARD
TZOFFSETFROM:+0200
TZOFFSETTO:+0100
TZNAME:CET
DTSTART:20211031T010000
END:STANDARD
BEGIN:DAYLIGHT
TZOFFSETFROM:+0100
TZOFFSETTO:+0200
TZNAME:CEST
DTSTART:20220327T010000
END:DAYLIGHT
BEGIN:STANDARD
TZOFFSETFROM:+0200
TZOFFSETTO:+0100
TZNAME:CET
DTSTART:20221030T010000
END:STANDARD
BEGIN:DAYLIGHT
TZOFFSETFROM:+0100
TZOFFSETTO:+0200
TZNAME:CEST
DTSTART:20230326T010000
END:DAYLIGHT
BEGIN:STANDARD
TZOFFSETFROM:+0200
TZOFFSETTO:+0100
TZNAME:CET
DTSTART:20231029T010000
END:STANDARD
END:VTIMEZONE
BEGIN:VEVENT
DTSTART;TZID=Europe/Madrid:20220211T080000
DTEND;TZID=Europe/Madrid:20220211T170000
DTSTAMP:20260426T012857
CREATED:20220211T153413Z
LAST-MODIFIED:20220211T162312Z
UID:58382-1644566400-1644598800@www.ieb.es
SUMMARY:Sesión informativa de Formación Online ¡Especialízate! Adaptada a ti desde cualquier lugar
DESCRIPTION:Sesión informativa de Formación Online ¡Especialízate! Adaptada a ti desde cualquier lugar\nPonentes: \n\nJosé Antonio Cerrada – Head of Digital Transformation in Private Banking\, BBVA\nJuan Abellán – Director del Máster en Mercados Financieros y Gestión de Activos (online)\, BBVA\nJoaquín Danvila – Jefe del Departamento de Formación y Desarrollo Digital del IEB.\n\n  \nFormulario de Inscripción para la sesión
URL:https://www.ieb.es/evento/sesion-informativa-de-formacion-online-especializate-adaptada-a-ti-desde-cualquier-lugar/
LOCATION:IEB\, Alfonso XI\, 6\, Madrid\, Madrid\, 28004\, España
CATEGORIES:Convención / Jornadas
ATTACH;FMTTYPE=image/png:https://www.ieb.es/wp-content/uploads/2022/02/Sesion-informativa-Formacion-Online-002.png
END:VEVENT
END:VCALENDAR