BEGIN:VCALENDAR
VERSION:2.0
PRODID:-//IEB - ECPv6.15.16.1//NONSGML v1.0//EN
CALSCALE:GREGORIAN
METHOD:PUBLISH
X-ORIGINAL-URL:https://www.ieb.es
X-WR-CALDESC:Eventos para IEB
REFRESH-INTERVAL;VALUE=DURATION:PT1H
X-Robots-Tag:noindex
X-PUBLISHED-TTL:PT1H
BEGIN:VTIMEZONE
TZID:Europe/Madrid
BEGIN:DAYLIGHT
TZOFFSETFROM:+0100
TZOFFSETTO:+0200
TZNAME:CEST
DTSTART:20240331T010000
END:DAYLIGHT
BEGIN:STANDARD
TZOFFSETFROM:+0200
TZOFFSETTO:+0100
TZNAME:CET
DTSTART:20241027T010000
END:STANDARD
BEGIN:DAYLIGHT
TZOFFSETFROM:+0100
TZOFFSETTO:+0200
TZNAME:CEST
DTSTART:20250330T010000
END:DAYLIGHT
BEGIN:STANDARD
TZOFFSETFROM:+0200
TZOFFSETTO:+0100
TZNAME:CET
DTSTART:20251026T010000
END:STANDARD
BEGIN:DAYLIGHT
TZOFFSETFROM:+0100
TZOFFSETTO:+0200
TZNAME:CEST
DTSTART:20260329T010000
END:DAYLIGHT
BEGIN:STANDARD
TZOFFSETFROM:+0200
TZOFFSETTO:+0100
TZNAME:CET
DTSTART:20261025T010000
END:STANDARD
END:VTIMEZONE
BEGIN:VEVENT
DTSTART;TZID=Europe/Madrid:20251211T190000
DTEND;TZID=Europe/Madrid:20251211T203000
DTSTAMP:20260423T035958
CREATED:20251030T144852Z
LAST-MODIFIED:20251217T152112Z
UID:78695-1765479600-1765485000@www.ieb.es
SUMMARY:Jornada Financiera: La importancia de la gestión de riesgos financieros
DESCRIPTION:La importancia de la gestión de riesgos financieros\n11 de diciembre a las 19:00h \nPonentes: \n\nManuel Revuelta González-Herrero. Responsable Corp. de Riesgo de tipo de interés\, Liquidez y FX estructural\, Banco Santander.\nRodrigo García-Salmones Gutiérrez. Jefe de Departamento. Políticas Contables Grupo\, Moeve.\nAlfonso Carderera Arnau. Head of Provisions & Capital\, BBVA Group\n\nModerador: \n\nFelipe M. Herranz Martín. Director del Máster en Riesgos Financieros y Auditoría Internacional\, IEB\n\nVer video de la Jornada:
URL:https://www.ieb.es/evento/jornada-financiera-la-importancia-de-la-gestion-de-riesgos-financieros/
LOCATION:Nuevo campus IEB\, Avenida del Talgo\, nº 5\, Madrid\, Madrid\, 28023\, Spain
CATEGORIES:Convención / Jornadas
ATTACH;FMTTYPE=image/png:https://www.ieb.es/wp-content/uploads/2025/10/25_12_11_La-importancia-de-la-gestion-de-riesgos-financieros_H2.png
END:VEVENT
BEGIN:VEVENT
DTSTART;TZID=Europe/Madrid:20251217T190000
DTEND;TZID=Europe/Madrid:20251217T200000
DTSTAMP:20260423T035958
CREATED:20251212T133743Z
LAST-MODIFIED:20251216T080255Z
UID:79233-1765998000-1766001600@www.ieb.es
SUMMARY:Sesión Magistral. Retos entorno al dato: Medición de impacto\, relevancia y coherencia; Nuevas tecnologías y roles de los datos
DESCRIPTION:Retos entorno al dato: Medición de impacto\, relevancia y coherencia; Nuevas tecnologías y roles de los datos\n17 de diciembre a las 19:00h \nPonentes:\n\nD. Manuel Morales. Head of Client Solutions Program.\n\nSRC\, departamento de Admisiones y Promoción de Postgrado en marta.escrina@ieb.es
URL:https://www.ieb.es/evento/sesion-magistral-retos-entorno-al-dato-medicion-de-impacto-relevancia-y-coherencia-nuevas-tecnologias-y-roles-de-los-datos/
LOCATION:Nuevo campus IEB\, Avenida del Talgo\, nº 5\, Madrid\, Madrid\, 28023\, Spain
CATEGORIES:Convención / Jornadas
ATTACH;FMTTYPE=image/png:https://www.ieb.es/wp-content/uploads/2025/12/25_12_17_Retos-entorno-al-dato_H-scaled.png
END:VEVENT
END:VCALENDAR