BEGIN:VCALENDAR
VERSION:2.0
PRODID:-//IEB - ECPv6.15.16.1//NONSGML v1.0//EN
CALSCALE:GREGORIAN
METHOD:PUBLISH
X-WR-CALNAME:IEB
X-ORIGINAL-URL:https://www.ieb.es
X-WR-CALDESC:Eventos para IEB
REFRESH-INTERVAL;VALUE=DURATION:PT1H
X-Robots-Tag:noindex
X-PUBLISHED-TTL:PT1H
BEGIN:VTIMEZONE
TZID:Europe/Madrid
BEGIN:DAYLIGHT
TZOFFSETFROM:+0100
TZOFFSETTO:+0200
TZNAME:CEST
DTSTART:20230326T010000
END:DAYLIGHT
BEGIN:STANDARD
TZOFFSETFROM:+0200
TZOFFSETTO:+0100
TZNAME:CET
DTSTART:20231029T010000
END:STANDARD
BEGIN:DAYLIGHT
TZOFFSETFROM:+0100
TZOFFSETTO:+0200
TZNAME:CEST
DTSTART:20240331T010000
END:DAYLIGHT
BEGIN:STANDARD
TZOFFSETFROM:+0200
TZOFFSETTO:+0100
TZNAME:CET
DTSTART:20241027T010000
END:STANDARD
BEGIN:DAYLIGHT
TZOFFSETFROM:+0100
TZOFFSETTO:+0200
TZNAME:CEST
DTSTART:20250330T010000
END:DAYLIGHT
BEGIN:STANDARD
TZOFFSETFROM:+0200
TZOFFSETTO:+0100
TZNAME:CET
DTSTART:20251026T010000
END:STANDARD
END:VTIMEZONE
BEGIN:VEVENT
DTSTART;VALUE=DATE:20241024
DTEND;VALUE=DATE:20241025
DTSTAMP:20260419T234048
CREATED:20240910T101039Z
LAST-MODIFIED:20240910T101100Z
UID:73232-1729728000-1729814399@www.ieb.es
SUMMARY:Finect Talent - Gala final
DESCRIPTION:¡Llega Finect Talent\, El concurso para descubrir a los gestores de carteras del futuro! \nConectar la experiencia con la visión innovadora. Enlazar el presente con el futuro. Y ponerlo al servicio de la inversión. ¡Presentamos Finect Talent! IEB y FINECT se unen para canalizar el talento presente y futuro hacia un único objetivo: crear las mejores carteras de inversión. \n¿En qué consiste Finect Talent? \nFinect Talent es un concurso en el que tres equipos formados cada uno por 3 Alumni o alumnos de últimos cursos con intención de dedicarse al mundo de la gestión\, el asesoramiento o las inversiones\, compiten para diseñar y gestionar la mejor propuesta de inversión para un family office. No estarán solos en el proceso: les guiarán selectores y gestores\, escogidos de entre los mejores profesionales de la inversión\, que ejercerán de mentores en cada una de las fases. \n 
URL:https://www.ieb.es/evento/finect-talent-gala-final/
LOCATION:Madrid
ATTACH;FMTTYPE=image/png:https://www.ieb.es/wp-content/uploads/2024/09/FT-Banner600x250-2.png
END:VEVENT
END:VCALENDAR