BEGIN:VCALENDAR
VERSION:2.0
PRODID:-//IEB - ECPv6.15.16.1//NONSGML v1.0//EN
CALSCALE:GREGORIAN
METHOD:PUBLISH
X-WR-CALNAME:IEB
X-ORIGINAL-URL:https://www.ieb.es
X-WR-CALDESC:Eventos para IEB
REFRESH-INTERVAL;VALUE=DURATION:PT1H
X-Robots-Tag:noindex
X-PUBLISHED-TTL:PT1H
BEGIN:VTIMEZONE
TZID:Europe/Madrid
BEGIN:DAYLIGHT
TZOFFSETFROM:+0100
TZOFFSETTO:+0200
TZNAME:CEST
DTSTART:20230326T010000
END:DAYLIGHT
BEGIN:STANDARD
TZOFFSETFROM:+0200
TZOFFSETTO:+0100
TZNAME:CET
DTSTART:20231029T010000
END:STANDARD
BEGIN:DAYLIGHT
TZOFFSETFROM:+0100
TZOFFSETTO:+0200
TZNAME:CEST
DTSTART:20240331T010000
END:DAYLIGHT
BEGIN:STANDARD
TZOFFSETFROM:+0200
TZOFFSETTO:+0100
TZNAME:CET
DTSTART:20241027T010000
END:STANDARD
BEGIN:DAYLIGHT
TZOFFSETFROM:+0100
TZOFFSETTO:+0200
TZNAME:CEST
DTSTART:20250330T010000
END:DAYLIGHT
BEGIN:STANDARD
TZOFFSETFROM:+0200
TZOFFSETTO:+0100
TZNAME:CET
DTSTART:20251026T010000
END:STANDARD
END:VTIMEZONE
BEGIN:VEVENT
DTSTART;VALUE=DATE:20241010
DTEND;VALUE=DATE:20241011
DTSTAMP:20260422T210848
CREATED:20240910T100939Z
LAST-MODIFIED:20240910T100939Z
UID:73230-1728518400-1728604799@www.ieb.es
SUMMARY:Finect Talent - Tercera mentoría
DESCRIPTION:¡Llega Finect Talent\, El concurso para descubrir a los gestores de carteras del futuro! \nConectar la experiencia con la visión innovadora. Enlazar el presente con el futuro. Y ponerlo al servicio de la inversión. ¡Presentamos Finect Talent! IEB y FINECT se unen para canalizar el talento presente y futuro hacia un único objetivo: crear las mejores carteras de inversión. \n¿En qué consiste Finect Talent? \nFinect Talent es un concurso en el que tres equipos formados cada uno por 3 Alumni o alumnos de últimos cursos con intención de dedicarse al mundo de la gestión\, el asesoramiento o las inversiones\, compiten para diseñar y gestionar la mejor propuesta de inversión para un family office. No estarán solos en el proceso: les guiarán selectores y gestores\, escogidos de entre los mejores profesionales de la inversión\, que ejercerán de mentores en cada una de las fases. \n 
URL:https://www.ieb.es/evento/finect-talent-tercera-mentoria/
LOCATION:Madrid
ATTACH;FMTTYPE=image/png:https://www.ieb.es/wp-content/uploads/2024/09/FT-Banner600x250-2.png
END:VEVENT
BEGIN:VEVENT
DTSTART;TZID=Europe/Madrid:20241010T120000
DTEND;TZID=Europe/Madrid:20241010T133000
DTSTAMP:20260422T210848
CREATED:20240926T090856Z
LAST-MODIFIED:20241025T083132Z
UID:73488-1728561600-1728567000@www.ieb.es
SUMMARY:Legal Career Day
DESCRIPTION:Durante los Carrer Days IEB acudirán empresas representativas de los sectores financiero y jurídico con un objetivo: captar talento. Conocerás de primera mano el día a día y el plan de carrera de cada profesión\, y participarás en actividades dirigidas a captar la atención de las empresas. \n  \nInscríbete a través de este enlace\n 
URL:https://www.ieb.es/evento/legal-career-day/
LOCATION:Madrid
ATTACH;FMTTYPE=image/png:https://www.ieb.es/wp-content/uploads/2024/09/24_10_10_Legal-Career-Day_H.V3.png
END:VEVENT
END:VCALENDAR