BEGIN:VCALENDAR
VERSION:2.0
PRODID:-//IEB - ECPv6.15.16.1//NONSGML v1.0//EN
CALSCALE:GREGORIAN
METHOD:PUBLISH
X-ORIGINAL-URL:https://www.ieb.es
X-WR-CALDESC:Eventos para IEB
REFRESH-INTERVAL;VALUE=DURATION:PT1H
X-Robots-Tag:noindex
X-PUBLISHED-TTL:PT1H
BEGIN:VTIMEZONE
TZID:Europe/Madrid
BEGIN:DAYLIGHT
TZOFFSETFROM:+0100
TZOFFSETTO:+0200
TZNAME:CEST
DTSTART:20230326T010000
END:DAYLIGHT
BEGIN:STANDARD
TZOFFSETFROM:+0200
TZOFFSETTO:+0100
TZNAME:CET
DTSTART:20231029T010000
END:STANDARD
BEGIN:DAYLIGHT
TZOFFSETFROM:+0100
TZOFFSETTO:+0200
TZNAME:CEST
DTSTART:20240331T010000
END:DAYLIGHT
BEGIN:STANDARD
TZOFFSETFROM:+0200
TZOFFSETTO:+0100
TZNAME:CET
DTSTART:20241027T010000
END:STANDARD
BEGIN:DAYLIGHT
TZOFFSETFROM:+0100
TZOFFSETTO:+0200
TZNAME:CEST
DTSTART:20250330T010000
END:DAYLIGHT
BEGIN:STANDARD
TZOFFSETFROM:+0200
TZOFFSETTO:+0100
TZNAME:CET
DTSTART:20251026T010000
END:STANDARD
END:VTIMEZONE
BEGIN:VEVENT
DTSTART;VALUE=DATE:20240217
DTEND;VALUE=DATE:20240218
DTSTAMP:20260424T000058
CREATED:20240122T111742Z
LAST-MODIFIED:20240122T164102Z
UID:69541-1708128000-1708214399@www.ieb.es
SUMMARY:Torneo benéfico de pádel IEB-Kukoa
DESCRIPTION:Torneo benéfico de pádel IEB-Kukoa\n Organizado por: IEB y Kukoa Jóvenes. \nTorneo benéfico de pádel organizado en colaboración con la Asociación Kukoa Jóvenes\, que organiza voluntarios para ayudar a personas sin recursos económicos\, niños con discapacidad\, niños enfermos y personas mayores en hospitales de cuidados paliativos. \n  \nENLACE DE INSCRIPCIÓN\n 
URL:https://www.ieb.es/evento/torneo-benefico-de-padel-ieb-kukoa/
LOCATION:Club de Pádel Bularas\, Av. de Bularas\, 1\, Pozuelo de Alarcón\, Madrid\, 28224\, España
ATTACH;FMTTYPE=image/png:https://www.ieb.es/wp-content/uploads/2024/01/24_02_17_KUKOA_PADEL_LKV.png
END:VEVENT
END:VCALENDAR