BEGIN:VCALENDAR
VERSION:2.0
PRODID:-//IEB - ECPv6.15.16.1//NONSGML v1.0//EN
CALSCALE:GREGORIAN
METHOD:PUBLISH
X-WR-CALNAME:IEB
X-ORIGINAL-URL:https://www.ieb.es
X-WR-CALDESC:Eventos para IEB
REFRESH-INTERVAL;VALUE=DURATION:PT1H
X-Robots-Tag:noindex
X-PUBLISHED-TTL:PT1H
BEGIN:VTIMEZONE
TZID:Europe/Madrid
BEGIN:DAYLIGHT
TZOFFSETFROM:+0100
TZOFFSETTO:+0200
TZNAME:CEST
DTSTART:20220327T010000
END:DAYLIGHT
BEGIN:STANDARD
TZOFFSETFROM:+0200
TZOFFSETTO:+0100
TZNAME:CET
DTSTART:20221030T010000
END:STANDARD
BEGIN:DAYLIGHT
TZOFFSETFROM:+0100
TZOFFSETTO:+0200
TZNAME:CEST
DTSTART:20230326T010000
END:DAYLIGHT
BEGIN:STANDARD
TZOFFSETFROM:+0200
TZOFFSETTO:+0100
TZNAME:CET
DTSTART:20231029T010000
END:STANDARD
BEGIN:DAYLIGHT
TZOFFSETFROM:+0100
TZOFFSETTO:+0200
TZNAME:CEST
DTSTART:20240331T010000
END:DAYLIGHT
BEGIN:STANDARD
TZOFFSETFROM:+0200
TZOFFSETTO:+0100
TZNAME:CET
DTSTART:20241027T010000
END:STANDARD
END:VTIMEZONE
BEGIN:VEVENT
DTSTART;TZID=Europe/Madrid:20231120T190000
DTEND;TZID=Europe/Madrid:20231120T203000
DTSTAMP:20260424T042725
CREATED:20231117T131024Z
LAST-MODIFIED:20231117T131024Z
UID:68809-1700506800-1700512200@www.ieb.es
SUMMARY:Clase magistral de Derecho Concursal Penal - Exclusivo para alumnos y alumnis
DESCRIPTION:Clase magistral de Derecho Concursal Penal\n Ponente: \n\nArmando Betancor Álamo\, Of Counsel en Kepler – Karst – Experto en reestructuraciones\n\nConsiderado como uno de los abogados más importantes del sector por el directorio internacional Chambers & Partners\, donde destacan su creatividad y la capacidad para trabajar y desarrollar los casos legales más complejos.
URL:https://www.ieb.es/evento/clase-magistral-de-derecho-concursal-penal-exclusivo-para-alumnos-y-alumnis/
LOCATION:IEB\, Alfonso XI\, 6\, Madrid\, Madrid\, 28004\, España
ATTACH;FMTTYPE=image/png:https://www.ieb.es/wp-content/uploads/2023/11/23_11_20_Clase-magistral-Derecho-Concursal-Penal-_H.png
END:VEVENT
END:VCALENDAR