BEGIN:VCALENDAR
VERSION:2.0
PRODID:-//IEB - ECPv6.15.16.1//NONSGML v1.0//EN
CALSCALE:GREGORIAN
METHOD:PUBLISH
X-WR-CALNAME:IEB
X-ORIGINAL-URL:https://www.ieb.es
X-WR-CALDESC:Eventos para IEB
REFRESH-INTERVAL;VALUE=DURATION:PT1H
X-Robots-Tag:noindex
X-PUBLISHED-TTL:PT1H
BEGIN:VTIMEZONE
TZID:Europe/Madrid
BEGIN:DAYLIGHT
TZOFFSETFROM:+0100
TZOFFSETTO:+0200
TZNAME:CEST
DTSTART:20220327T010000
END:DAYLIGHT
BEGIN:STANDARD
TZOFFSETFROM:+0200
TZOFFSETTO:+0100
TZNAME:CET
DTSTART:20221030T010000
END:STANDARD
BEGIN:DAYLIGHT
TZOFFSETFROM:+0100
TZOFFSETTO:+0200
TZNAME:CEST
DTSTART:20230326T010000
END:DAYLIGHT
BEGIN:STANDARD
TZOFFSETFROM:+0200
TZOFFSETTO:+0100
TZNAME:CET
DTSTART:20231029T010000
END:STANDARD
BEGIN:DAYLIGHT
TZOFFSETFROM:+0100
TZOFFSETTO:+0200
TZNAME:CEST
DTSTART:20240331T010000
END:DAYLIGHT
BEGIN:STANDARD
TZOFFSETFROM:+0200
TZOFFSETTO:+0100
TZNAME:CET
DTSTART:20241027T010000
END:STANDARD
END:VTIMEZONE
BEGIN:VEVENT
DTSTART;TZID=Europe/Madrid:20230615T190000
DTEND;TZID=Europe/Madrid:20230615T210000
DTSTAMP:20260424T121153
CREATED:20230605T094451Z
LAST-MODIFIED:20230605T094451Z
UID:66517-1686855600-1686862800@www.ieb.es
SUMMARY:La música como nuevo activo de inversión alternativa
DESCRIPTION:La música como nuevo activo de inversión alternativa\n  \nPonentes: \n\nAlberto Blanco – Founding Partner\, BigDatil; Profesor\, IEB; Board member\, Banca Pueyo\n\n  \n  \nFormulario de Inscripción para la sesión
URL:https://www.ieb.es/evento/la-musica-como-nuevo-activo-de-inversion-alternativa/
LOCATION:Madrid
ATTACH;FMTTYPE=image/png:https://www.ieb.es/wp-content/uploads/2023/06/23_06_15_La-musica-como-nuevo-activo-de-inversion-alternativa_H.png
END:VEVENT
END:VCALENDAR