BEGIN:VCALENDAR
VERSION:2.0
PRODID:-//IEB - ECPv6.15.16.1//NONSGML v1.0//EN
CALSCALE:GREGORIAN
METHOD:PUBLISH
X-WR-CALNAME:IEB
X-ORIGINAL-URL:https://www.ieb.es
X-WR-CALDESC:Eventos para IEB
REFRESH-INTERVAL;VALUE=DURATION:PT1H
X-Robots-Tag:noindex
X-PUBLISHED-TTL:PT1H
BEGIN:VTIMEZONE
TZID:Europe/Madrid
BEGIN:DAYLIGHT
TZOFFSETFROM:+0100
TZOFFSETTO:+0200
TZNAME:CEST
DTSTART:20220327T010000
END:DAYLIGHT
BEGIN:STANDARD
TZOFFSETFROM:+0200
TZOFFSETTO:+0100
TZNAME:CET
DTSTART:20221030T010000
END:STANDARD
BEGIN:DAYLIGHT
TZOFFSETFROM:+0100
TZOFFSETTO:+0200
TZNAME:CEST
DTSTART:20230326T010000
END:DAYLIGHT
BEGIN:STANDARD
TZOFFSETFROM:+0200
TZOFFSETTO:+0100
TZNAME:CET
DTSTART:20231029T010000
END:STANDARD
BEGIN:DAYLIGHT
TZOFFSETFROM:+0100
TZOFFSETTO:+0200
TZNAME:CEST
DTSTART:20240331T010000
END:DAYLIGHT
BEGIN:STANDARD
TZOFFSETFROM:+0200
TZOFFSETTO:+0100
TZNAME:CET
DTSTART:20241027T010000
END:STANDARD
END:VTIMEZONE
BEGIN:VEVENT
DTSTART;TZID=Europe/Madrid:20230614T183000
DTEND;TZID=Europe/Madrid:20230614T200000
DTSTAMP:20260424T121153
CREATED:20230605T104109Z
LAST-MODIFIED:20230609T114739Z
UID:66530-1686767400-1686772800@www.ieb.es
SUMMARY:Un café con Carlos Guerra y César de la Mora para hablar de Banca Privada Internacional
DESCRIPTION:Un café con Carlos Guerra y César de la Mora para hablar de Banca Privada Internacional\n  \nPonentes: \n\n\n\nCarlos Guerra – Director\, Investment Advisor\, Middle East Region\, UBS.\nCésar de la Mora – Vice President – Senior Banker\, Santander Private Banking.\n\n\n\n  \n  \nInscripción: alumni@ieb.es
URL:https://www.ieb.es/evento/un-cafe-con-carlos-guerra-y-cesar-de-la-mora-para-hablar-de-banca-privada-internacional/
LOCATION:Madrid
ATTACH;FMTTYPE=image/png:https://www.ieb.es/wp-content/uploads/2023/06/23_06_14_Un-cafe-con-Cesar-de-la-Mora-y-Carlos-Guerra-para-hablar-de-Ban.png
END:VEVENT
END:VCALENDAR