BEGIN:VCALENDAR
VERSION:2.0
PRODID:-//IEB - ECPv6.15.16.1//NONSGML v1.0//EN
CALSCALE:GREGORIAN
METHOD:PUBLISH
X-WR-CALNAME:IEB
X-ORIGINAL-URL:https://www.ieb.es
X-WR-CALDESC:Eventos para IEB
REFRESH-INTERVAL;VALUE=DURATION:PT1H
X-Robots-Tag:noindex
X-PUBLISHED-TTL:PT1H
BEGIN:VTIMEZONE
TZID:Europe/Madrid
BEGIN:DAYLIGHT
TZOFFSETFROM:+0100
TZOFFSETTO:+0200
TZNAME:CEST
DTSTART:20220327T010000
END:DAYLIGHT
BEGIN:STANDARD
TZOFFSETFROM:+0200
TZOFFSETTO:+0100
TZNAME:CET
DTSTART:20221030T010000
END:STANDARD
BEGIN:DAYLIGHT
TZOFFSETFROM:+0100
TZOFFSETTO:+0200
TZNAME:CEST
DTSTART:20230326T010000
END:DAYLIGHT
BEGIN:STANDARD
TZOFFSETFROM:+0200
TZOFFSETTO:+0100
TZNAME:CET
DTSTART:20231029T010000
END:STANDARD
BEGIN:DAYLIGHT
TZOFFSETFROM:+0100
TZOFFSETTO:+0200
TZNAME:CEST
DTSTART:20240331T010000
END:DAYLIGHT
BEGIN:STANDARD
TZOFFSETFROM:+0200
TZOFFSETTO:+0100
TZNAME:CET
DTSTART:20241027T010000
END:STANDARD
END:VTIMEZONE
BEGIN:VEVENT
DTSTART;TZID=Europe/Madrid:20230418T183000
DTEND;TZID=Europe/Madrid:20230418T200000
DTSTAMP:20260424T151350
CREATED:20230228T174908Z
LAST-MODIFIED:20230228T174908Z
UID:65331-1681842600-1681848000@www.ieb.es
SUMMARY:La Relevancia Estratégica del Bitcoin en la Nueva Economía Digital
DESCRIPTION:La Relevancia Estratégica del Bitcoin en la Nueva Economía Digital\n  \nPonente: \n\nErnesto Revello Sánchez – Economista\, asesor financiero y mentor de inversores conscientes.\n\n  \nFormulario de Inscripción para la sesión
URL:https://www.ieb.es/evento/la-relevancia-estrategica-del-bitcoin-en-la-nueva-economia-digital/
LOCATION:IEB\, Alfonso XI\, 6\, Madrid\, Madrid\, 28004\, España
ATTACH;FMTTYPE=image/png:https://www.ieb.es/wp-content/uploads/2023/02/23_04_18_La-relevancia-estrategica-del-bitcoin-en-la-nueva-economia-digi.._.png
END:VEVENT
END:VCALENDAR