BEGIN:VCALENDAR
VERSION:2.0
PRODID:-//IEB - ECPv6.15.16.1//NONSGML v1.0//EN
CALSCALE:GREGORIAN
METHOD:PUBLISH
X-WR-CALNAME:IEB
X-ORIGINAL-URL:https://www.ieb.es
X-WR-CALDESC:Eventos para IEB
REFRESH-INTERVAL;VALUE=DURATION:PT1H
X-Robots-Tag:noindex
X-PUBLISHED-TTL:PT1H
BEGIN:VTIMEZONE
TZID:Europe/Madrid
BEGIN:DAYLIGHT
TZOFFSETFROM:+0100
TZOFFSETTO:+0200
TZNAME:CEST
DTSTART:20220327T010000
END:DAYLIGHT
BEGIN:STANDARD
TZOFFSETFROM:+0200
TZOFFSETTO:+0100
TZNAME:CET
DTSTART:20221030T010000
END:STANDARD
BEGIN:DAYLIGHT
TZOFFSETFROM:+0100
TZOFFSETTO:+0200
TZNAME:CEST
DTSTART:20230326T010000
END:DAYLIGHT
BEGIN:STANDARD
TZOFFSETFROM:+0200
TZOFFSETTO:+0100
TZNAME:CET
DTSTART:20231029T010000
END:STANDARD
BEGIN:DAYLIGHT
TZOFFSETFROM:+0100
TZOFFSETTO:+0200
TZNAME:CEST
DTSTART:20240331T010000
END:DAYLIGHT
BEGIN:STANDARD
TZOFFSETFROM:+0200
TZOFFSETTO:+0100
TZNAME:CET
DTSTART:20241027T010000
END:STANDARD
END:VTIMEZONE
BEGIN:VEVENT
DTSTART;TZID=Europe/Madrid:20230307T190000
DTEND;TZID=Europe/Madrid:20230307T203000
DTSTAMP:20260424T163551
CREATED:20230227T121514Z
LAST-MODIFIED:20230227T121514Z
UID:65305-1678215600-1678221000@www.ieb.es
SUMMARY:Sesión informativa sobre el Máster de Finanzas Digitales e Innovación
DESCRIPTION:Sesión informativa sobre el Máster de Finanzas Digitales e Innovación\n¡Responde a los nuevos retos del sector financiero!\n  \nPonentes: \n\nMiguel Ángel Barrio – Managing Director en Entelgy Digital.\nJosé Antonio Cerrada – Responsable de Transformación Digital de Banca Privada en BBVA.\nJoaquín Danvila – Responsable del Departamento de Desarrollo Digital y Formación Online del IEB.\n\n  \nFormulario de Inscripción para la sesión
URL:https://www.ieb.es/evento/sesion-informativa-sobre-el-master-de-finanzas-digitales-e-innovacion/
LOCATION:IEB\, Alfonso XI\, 6\, Madrid\, Madrid\, 28004\, España
ATTACH;FMTTYPE=image/png:https://www.ieb.es/wp-content/uploads/2023/02/23_03_07_Sesion-informativa-Finanzas-Digitales_H.png
END:VEVENT
END:VCALENDAR