BEGIN:VCALENDAR
VERSION:2.0
PRODID:-//IEB - ECPv6.15.16.1//NONSGML v1.0//EN
CALSCALE:GREGORIAN
METHOD:PUBLISH
X-WR-CALNAME:IEB
X-ORIGINAL-URL:https://www.ieb.es
X-WR-CALDESC:Eventos para IEB
REFRESH-INTERVAL;VALUE=DURATION:PT1H
X-Robots-Tag:noindex
X-PUBLISHED-TTL:PT1H
BEGIN:VTIMEZONE
TZID:Europe/Madrid
BEGIN:DAYLIGHT
TZOFFSETFROM:+0100
TZOFFSETTO:+0200
TZNAME:CEST
DTSTART:20220327T010000
END:DAYLIGHT
BEGIN:STANDARD
TZOFFSETFROM:+0200
TZOFFSETTO:+0100
TZNAME:CET
DTSTART:20221030T010000
END:STANDARD
BEGIN:DAYLIGHT
TZOFFSETFROM:+0100
TZOFFSETTO:+0200
TZNAME:CEST
DTSTART:20230326T010000
END:DAYLIGHT
BEGIN:STANDARD
TZOFFSETFROM:+0200
TZOFFSETTO:+0100
TZNAME:CET
DTSTART:20231029T010000
END:STANDARD
BEGIN:DAYLIGHT
TZOFFSETFROM:+0100
TZOFFSETTO:+0200
TZNAME:CEST
DTSTART:20240331T010000
END:DAYLIGHT
BEGIN:STANDARD
TZOFFSETFROM:+0200
TZOFFSETTO:+0100
TZNAME:CET
DTSTART:20241027T010000
END:STANDARD
END:VTIMEZONE
BEGIN:VEVENT
DTSTART;TZID=Europe/Madrid:20230223T190000
DTEND;TZID=Europe/Madrid:20230223T200000
DTSTAMP:20260424T181202
CREATED:20230222T111020Z
LAST-MODIFIED:20230222T111136Z
UID:65228-1677178800-1677182400@www.ieb.es
SUMMARY:El impacto de la Inteligencia Artificial en los Mercados Financieros
DESCRIPTION:El impacto de la Inteligencia Artificial en los Mercados Financieros\n  \nPonentes: \n\nGuillermo Meléndez Alonso – Head of Quant AI Developers.\nJesús Mardomingo – Socio\, Dentons. Director del Programa de Especialización en Derecho de los Mercados Financieros.\n\n  \nEnlace de la emisión en directo
URL:https://www.ieb.es/evento/el-impacto-de-la-inteligencia-artificial-en-los-mercados-financieros/
LOCATION:IEB\, Alfonso XI\, 6\, Madrid\, Madrid\, 28004\, España
ATTACH;FMTTYPE=image/jpeg:https://www.ieb.es/wp-content/uploads/2023/02/1677002686897.jpg
END:VEVENT
BEGIN:VEVENT
DTSTART;TZID=Europe/Madrid:20230223T193000
DTEND;TZID=Europe/Madrid:20230223T203000
DTSTAMP:20260424T181202
CREATED:20230206T160455Z
LAST-MODIFIED:20230217T125606Z
UID:64938-1677180600-1677184200@www.ieb.es
SUMMARY:Un café con David Gervás para hablar de M&A y Private Equity
DESCRIPTION:Un café con David Gervás para hablar de M&A y Private Equity\n  \nPonentes: \n\nDavid Gervás – Director de Arta Capital.\n\n  \nFormulario de Inscripción para la sesión
URL:https://www.ieb.es/evento/un-cafe-con-david-gervas-para-hablar-de-ma-y-private-equity/
LOCATION:IEB\, Alfonso XI\, 6\, Madrid\, Madrid\, 28004\, España
ATTACH;FMTTYPE=image/jpeg:https://www.ieb.es/wp-content/uploads/2023/02/23_02_23_Alumni-Un-cafe-con-David-Gervas_H-scaled.jpg
END:VEVENT
END:VCALENDAR