BEGIN:VCALENDAR
VERSION:2.0
PRODID:-//IEB - ECPv6.15.16.1//NONSGML v1.0//EN
CALSCALE:GREGORIAN
METHOD:PUBLISH
X-WR-CALNAME:IEB
X-ORIGINAL-URL:https://www.ieb.es
X-WR-CALDESC:Eventos para IEB
REFRESH-INTERVAL;VALUE=DURATION:PT1H
X-Robots-Tag:noindex
X-PUBLISHED-TTL:PT1H
BEGIN:VTIMEZONE
TZID:Europe/Madrid
BEGIN:DAYLIGHT
TZOFFSETFROM:+0100
TZOFFSETTO:+0200
TZNAME:CEST
DTSTART:20220327T010000
END:DAYLIGHT
BEGIN:STANDARD
TZOFFSETFROM:+0200
TZOFFSETTO:+0100
TZNAME:CET
DTSTART:20221030T010000
END:STANDARD
BEGIN:DAYLIGHT
TZOFFSETFROM:+0100
TZOFFSETTO:+0200
TZNAME:CEST
DTSTART:20230326T010000
END:DAYLIGHT
BEGIN:STANDARD
TZOFFSETFROM:+0200
TZOFFSETTO:+0100
TZNAME:CET
DTSTART:20231029T010000
END:STANDARD
BEGIN:DAYLIGHT
TZOFFSETFROM:+0100
TZOFFSETTO:+0200
TZNAME:CEST
DTSTART:20240331T010000
END:DAYLIGHT
BEGIN:STANDARD
TZOFFSETFROM:+0200
TZOFFSETTO:+0100
TZNAME:CET
DTSTART:20241027T010000
END:STANDARD
END:VTIMEZONE
BEGIN:VEVENT
DTSTART;TZID=Europe/Madrid:20230202T190000
DTEND;TZID=Europe/Madrid:20230202T203000
DTSTAMP:20260424T181213
CREATED:20230123T131233Z
LAST-MODIFIED:20230123T131337Z
UID:64693-1675364400-1675369800@www.ieb.es
SUMMARY:La Economía y las Finanzas de 2023\, lideradas por mujeres
DESCRIPTION:La Economía y las Finanzas de 2023\, lideradas por mujeres\n  \nPonentes: \n\nAida Bdiri Martínez – Finance and Risk Senior Consultant Nfq Advisory\, Solutions\, Outsourcing.\nBeatriz Pérez Solana – Portfolio manager en Renta 4.\nOlga Peña Guijarro – Executive Director ECM and ESG Advisory #SoyPromociona.\nVictoria Ros – Managing Director Digital Banks & Insurance\, BNP Paribas.\nMariam Pérez-Camino Pinto – Directora de Comunicación y RSC\, BNP Paribas.\nCarol Lago García – IT & Innovation Senior Manager\, Grant Thornton’s Blockchain Lab.\n\n  \nFormulario de Inscripción para la sesión
URL:https://www.ieb.es/evento/la-economia-y-las-finanzas-de-2023-lideradas-por-mujeres/
LOCATION:IEB\, Alfonso XI\, 6\, Madrid\, Madrid\, 28004\, España
ATTACH;FMTTYPE=image/png:https://www.ieb.es/wp-content/uploads/2023/01/de7637f1-fcbd-7751-81cb-55da7f1c98fb.png
END:VEVENT
END:VCALENDAR