BEGIN:VCALENDAR
VERSION:2.0
PRODID:-//IEB - ECPv6.15.16.1//NONSGML v1.0//EN
CALSCALE:GREGORIAN
METHOD:PUBLISH
X-ORIGINAL-URL:https://www.ieb.es
X-WR-CALDESC:Eventos para IEB
REFRESH-INTERVAL;VALUE=DURATION:PT1H
X-Robots-Tag:noindex
X-PUBLISHED-TTL:PT1H
BEGIN:VTIMEZONE
TZID:Europe/Madrid
BEGIN:DAYLIGHT
TZOFFSETFROM:+0100
TZOFFSETTO:+0200
TZNAME:CEST
DTSTART:20220327T010000
END:DAYLIGHT
BEGIN:STANDARD
TZOFFSETFROM:+0200
TZOFFSETTO:+0100
TZNAME:CET
DTSTART:20221030T010000
END:STANDARD
BEGIN:DAYLIGHT
TZOFFSETFROM:+0100
TZOFFSETTO:+0200
TZNAME:CEST
DTSTART:20230326T010000
END:DAYLIGHT
BEGIN:STANDARD
TZOFFSETFROM:+0200
TZOFFSETTO:+0100
TZNAME:CET
DTSTART:20231029T010000
END:STANDARD
BEGIN:DAYLIGHT
TZOFFSETFROM:+0100
TZOFFSETTO:+0200
TZNAME:CEST
DTSTART:20240331T010000
END:DAYLIGHT
BEGIN:STANDARD
TZOFFSETFROM:+0200
TZOFFSETTO:+0100
TZNAME:CET
DTSTART:20241027T010000
END:STANDARD
END:VTIMEZONE
BEGIN:VEVENT
DTSTART;TZID=Europe/Madrid:20230131T183000
DTEND;TZID=Europe/Madrid:20230131T200000
DTSTAMP:20260424T181255
CREATED:20230111T132712Z
LAST-MODIFIED:20230111T132712Z
UID:64542-1675189800-1675195200@www.ieb.es
SUMMARY:Poker con P de PLAN: Planificación Patrimonial\, Personal\, Profesional
DESCRIPTION:Poker con P de PLAN: Planificación Patrimonial\, Personal\, Profesional\n  \nPonentes: \n\nAlejandro Millán Ramos – Coordinador de Zona de OVB Allfinanz España; y Alumni del MBA con especialización en Finanzas.\nManuel Alonso Ajamil – Director Comercial y Consejero de OVB Allfinanz España.\n\n  \nFormulario de Inscripción para la sesión
URL:https://www.ieb.es/evento/poker-con-p-de-plan-planificacion-patrimonial-personal-profesional/
LOCATION:IEB\, Alfonso XI\, 6\, Madrid\, Madrid\, 28004\, España
ATTACH;FMTTYPE=image/png:https://www.ieb.es/wp-content/uploads/2023/01/23_01_31_Poker-con-P-de-Plan_H.png
END:VEVENT
END:VCALENDAR