BEGIN:VCALENDAR
VERSION:2.0
PRODID:-//IEB - ECPv6.15.16.1//NONSGML v1.0//EN
CALSCALE:GREGORIAN
METHOD:PUBLISH
X-WR-CALNAME:IEB
X-ORIGINAL-URL:https://www.ieb.es
X-WR-CALDESC:Eventos para IEB
REFRESH-INTERVAL;VALUE=DURATION:PT1H
X-Robots-Tag:noindex
X-PUBLISHED-TTL:PT1H
BEGIN:VTIMEZONE
TZID:Europe/Madrid
BEGIN:DAYLIGHT
TZOFFSETFROM:+0100
TZOFFSETTO:+0200
TZNAME:CEST
DTSTART:20210328T010000
END:DAYLIGHT
BEGIN:STANDARD
TZOFFSETFROM:+0200
TZOFFSETTO:+0100
TZNAME:CET
DTSTART:20211031T010000
END:STANDARD
BEGIN:DAYLIGHT
TZOFFSETFROM:+0100
TZOFFSETTO:+0200
TZNAME:CEST
DTSTART:20220327T010000
END:DAYLIGHT
BEGIN:STANDARD
TZOFFSETFROM:+0200
TZOFFSETTO:+0100
TZNAME:CET
DTSTART:20221030T010000
END:STANDARD
BEGIN:DAYLIGHT
TZOFFSETFROM:+0100
TZOFFSETTO:+0200
TZNAME:CEST
DTSTART:20230326T010000
END:DAYLIGHT
BEGIN:STANDARD
TZOFFSETFROM:+0200
TZOFFSETTO:+0100
TZNAME:CET
DTSTART:20231029T010000
END:STANDARD
END:VTIMEZONE
BEGIN:VEVENT
DTSTART;TZID=Europe/Madrid:20221027T183000
DTEND;TZID=Europe/Madrid:20221027T200000
DTSTAMP:20260425T003324
CREATED:20221020T150517Z
LAST-MODIFIED:20221020T150517Z
UID:62405-1666895400-1666900800@www.ieb.es
SUMMARY:Diálogo sobre el avance de las finanzas sostenibles
DESCRIPTION:Diálogo sobre el avance de las finanzas sostenibles\nModerador: \n\nJuan Carlos Delrieu – Director de Estrategia y Sostenibilidad\, AEB\n\nPonentes: \n\nMaría Luisa Clavera Maestre – Directora general\, DIRSE\nInés García-Pintos Balbás – Consejera externa\, Gabeiras & Asociados. Profesora asociada\, UCM.\nTomás Conde – Director ESG & Sustainable Finance\, NWorld.\n\n  \nFormulario de Inscripción para la sesión
URL:https://www.ieb.es/evento/dialogo-sobre-el-avance-de-las-finanzas-sostenibles/
LOCATION:IEB\, Alfonso XI\, 6\, Madrid\, Madrid\, 28004\, España
ATTACH;FMTTYPE=image/png:https://www.ieb.es/wp-content/uploads/2022/10/22_10_27_Dialogo-sobre-el-avance-de-las-finanzas-sostenibles_H-version-2.png
END:VEVENT
BEGIN:VEVENT
DTSTART;TZID=Europe/Madrid:20221027T190000
DTEND;TZID=Europe/Madrid:20221027T200000
DTSTAMP:20260425T003324
CREATED:20221014T083445Z
LAST-MODIFIED:20221014T084615Z
UID:62198-1666897200-1666900800@www.ieb.es
SUMMARY:Cómo invertir según los principios católicos
DESCRIPTION:Cómo invertir según los principios católicos\n  \nPonentes: \n\nBorja Barragán – CEO & Founder\, Altum Faithful Investing.\nCarlos Antón – Finance Strategy Director\, Altum Faithful Investing; Alumni IEB del Máster en Bolsa y Mercados Financieros.\n\n  \nFormulario de Inscripción para la sesión
URL:https://www.ieb.es/evento/como-invertir-segun-los-principios-catolicos/
LOCATION:IEB\, Alfonso XI\, 6\, Madrid\, Madrid\, 28004\, España
ATTACH;FMTTYPE=image/png:https://www.ieb.es/wp-content/uploads/2022/10/Como-invertir-segun-los-principios-catolicos-webinar.png
END:VEVENT
END:VCALENDAR