BEGIN:VCALENDAR
VERSION:2.0
PRODID:-//IEB - ECPv6.15.16.1//NONSGML v1.0//EN
CALSCALE:GREGORIAN
METHOD:PUBLISH
X-WR-CALNAME:IEB
X-ORIGINAL-URL:https://www.ieb.es
X-WR-CALDESC:Eventos para IEB
REFRESH-INTERVAL;VALUE=DURATION:PT1H
X-Robots-Tag:noindex
X-PUBLISHED-TTL:PT1H
BEGIN:VTIMEZONE
TZID:Europe/Madrid
BEGIN:DAYLIGHT
TZOFFSETFROM:+0100
TZOFFSETTO:+0200
TZNAME:CEST
DTSTART:20210328T010000
END:DAYLIGHT
BEGIN:STANDARD
TZOFFSETFROM:+0200
TZOFFSETTO:+0100
TZNAME:CET
DTSTART:20211031T010000
END:STANDARD
BEGIN:DAYLIGHT
TZOFFSETFROM:+0100
TZOFFSETTO:+0200
TZNAME:CEST
DTSTART:20220327T010000
END:DAYLIGHT
BEGIN:STANDARD
TZOFFSETFROM:+0200
TZOFFSETTO:+0100
TZNAME:CET
DTSTART:20221030T010000
END:STANDARD
BEGIN:DAYLIGHT
TZOFFSETFROM:+0100
TZOFFSETTO:+0200
TZNAME:CEST
DTSTART:20230326T010000
END:DAYLIGHT
BEGIN:STANDARD
TZOFFSETFROM:+0200
TZOFFSETTO:+0100
TZNAME:CET
DTSTART:20231029T010000
END:STANDARD
END:VTIMEZONE
BEGIN:VEVENT
DTSTART;TZID=Europe/Madrid:20221025T190000
DTEND;TZID=Europe/Madrid:20221025T203000
DTSTAMP:20260425T003323
CREATED:20221010T160520Z
LAST-MODIFIED:20221010T160611Z
UID:62108-1666724400-1666729800@www.ieb.es
SUMMARY:Derivados para un entorno de volatilidad
DESCRIPTION:Derivados para un entorno de volatilidad\n  \nPonentes: \n\nJavier Niederleytner – Agente financiero en Bankinter y profesor del Máster en Bolsa y Mercados Financieros.\n\n  \nFormulario de Inscripción para la sesión
URL:https://www.ieb.es/evento/derivados-para-un-entorno-de-volatilidad/
LOCATION:IEB\, Alfonso XI\, 6\, Madrid\, Madrid\, 28004\, España
ATTACH;FMTTYPE=image/png:https://www.ieb.es/wp-content/uploads/2022/10/22_10_25_Derivados-para-un-entorno-de-volatilidad-Webinar-Rankia_H.png
END:VEVENT
END:VCALENDAR