BEGIN:VCALENDAR
VERSION:2.0
PRODID:-//IEB - ECPv6.15.16.1//NONSGML v1.0//EN
CALSCALE:GREGORIAN
METHOD:PUBLISH
X-WR-CALNAME:IEB
X-ORIGINAL-URL:https://www.ieb.es
X-WR-CALDESC:Eventos para IEB
REFRESH-INTERVAL;VALUE=DURATION:PT1H
X-Robots-Tag:noindex
X-PUBLISHED-TTL:PT1H
BEGIN:VTIMEZONE
TZID:Europe/Madrid
BEGIN:DAYLIGHT
TZOFFSETFROM:+0100
TZOFFSETTO:+0200
TZNAME:CEST
DTSTART:20210328T010000
END:DAYLIGHT
BEGIN:STANDARD
TZOFFSETFROM:+0200
TZOFFSETTO:+0100
TZNAME:CET
DTSTART:20211031T010000
END:STANDARD
BEGIN:DAYLIGHT
TZOFFSETFROM:+0100
TZOFFSETTO:+0200
TZNAME:CEST
DTSTART:20220327T010000
END:DAYLIGHT
BEGIN:STANDARD
TZOFFSETFROM:+0200
TZOFFSETTO:+0100
TZNAME:CET
DTSTART:20221030T010000
END:STANDARD
BEGIN:DAYLIGHT
TZOFFSETFROM:+0100
TZOFFSETTO:+0200
TZNAME:CEST
DTSTART:20230326T010000
END:DAYLIGHT
BEGIN:STANDARD
TZOFFSETFROM:+0200
TZOFFSETTO:+0100
TZNAME:CET
DTSTART:20231029T010000
END:STANDARD
END:VTIMEZONE
BEGIN:VEVENT
DTSTART;TZID=Europe/Madrid:20220720T180000
DTEND;TZID=Europe/Madrid:20220720T183000
DTSTAMP:20260425T051710
CREATED:20220718T183637Z
LAST-MODIFIED:20220718T184134Z
UID:61058-1658340000-1658341800@www.ieb.es
SUMMARY:Una oportunidad de demostrar tu talento en el Área de Legaltech de Telefónica
DESCRIPTION:Una oportunidad de demostrar tu talento en el Área de Legaltech de Telefónica\n  \nPonentes: \n\nJuan Manuel de Lara – Heading Career Services & Innovation Professor\, IEB.\nIsmael Simón Moreno – Legal Counsel\, Product Privacy & Legal Design Team Lead\, Telefónica.\n\n  \nFormulario de Inscripción para la sesión
URL:https://www.ieb.es/evento/una-oportunidad-de-demostrar-tu-talento-en-el-area-de-legaltech-de-telefonica/
LOCATION:IEB\, Alfonso XI\, 6\, Madrid\, Madrid\, 28004\, España
ATTACH;FMTTYPE=image/png:https://www.ieb.es/wp-content/uploads/2022/07/22_07_20_Presentacion-programa-Telefonica_H.png
END:VEVENT
END:VCALENDAR