BEGIN:VCALENDAR
VERSION:2.0
PRODID:-//IEB - ECPv6.15.16.1//NONSGML v1.0//EN
CALSCALE:GREGORIAN
METHOD:PUBLISH
X-ORIGINAL-URL:https://www.ieb.es
X-WR-CALDESC:Eventos para IEB
REFRESH-INTERVAL;VALUE=DURATION:PT1H
X-Robots-Tag:noindex
X-PUBLISHED-TTL:PT1H
BEGIN:VTIMEZONE
TZID:Europe/Madrid
BEGIN:DAYLIGHT
TZOFFSETFROM:+0100
TZOFFSETTO:+0200
TZNAME:CEST
DTSTART:20210328T010000
END:DAYLIGHT
BEGIN:STANDARD
TZOFFSETFROM:+0200
TZOFFSETTO:+0100
TZNAME:CET
DTSTART:20211031T010000
END:STANDARD
BEGIN:DAYLIGHT
TZOFFSETFROM:+0100
TZOFFSETTO:+0200
TZNAME:CEST
DTSTART:20220327T010000
END:DAYLIGHT
BEGIN:STANDARD
TZOFFSETFROM:+0200
TZOFFSETTO:+0100
TZNAME:CET
DTSTART:20221030T010000
END:STANDARD
BEGIN:DAYLIGHT
TZOFFSETFROM:+0100
TZOFFSETTO:+0200
TZNAME:CEST
DTSTART:20230326T010000
END:DAYLIGHT
BEGIN:STANDARD
TZOFFSETFROM:+0200
TZOFFSETTO:+0100
TZNAME:CET
DTSTART:20231029T010000
END:STANDARD
END:VTIMEZONE
BEGIN:VEVENT
DTSTART;TZID=Europe/Madrid:20220629T080000
DTEND;TZID=Europe/Madrid:20220629T170000
DTSTAMP:20260425T051253
CREATED:20220601T075530Z
LAST-MODIFIED:20220601T075621Z
UID:60503-1656489600-1656522000@www.ieb.es
SUMMARY:Inicio del Curso Superior de Fondos de Inversión y Asesoramiento a Empresas
DESCRIPTION:Este curso está centrado en las diferentes áreas del mundo financiero\, con especial enfoque en los mercados\, las alternativas de inversión existentes y la coyuntura actual. \n  \nMás información sobre el Curso
URL:https://www.ieb.es/evento/inicio-del-curso-superior-de-fondos-de-inversion-y-asesoramiento-a-empresas/
LOCATION:IEB\, Alfonso XI\, 6\, Madrid\, Madrid\, 28004\, España
END:VEVENT
BEGIN:VEVENT
DTSTART;TZID=Europe/Madrid:20220629T190000
DTEND;TZID=Europe/Madrid:20220629T203000
DTSTAMP:20260425T051253
CREATED:20220623T152958Z
LAST-MODIFIED:20220627T150914Z
UID:60850-1656529200-1656534600@www.ieb.es
SUMMARY:Conviértete en Planificador Financiero
DESCRIPTION:Conviértete en Planificador Financiero\n  \nPonentes: \n\nGuillermo Domínguez – Socio Director Castilla y León\, Tressis.\nJesús Mariñas – Director\, JDS\, Agencia de Valores en Pamplona.\nSalvador Mas – Director de Planificación Financiera\, AllFunds Bank.\nFernando Estévez – Secretario General\, Diaphanum.\nJesús Pérez Pérez – Director Acreditaciones €FPA.\nJorge González Olivares – Private Banker\, Banco Mediolanum.\n\n  \nFormulario de Inscripción para la sesión
URL:https://www.ieb.es/evento/conviertete-en-planificador-financiero/
LOCATION:IEB\, Alfonso XI\, 6\, Madrid\, Madrid\, 28004\, España
ATTACH;FMTTYPE=image/png:https://www.ieb.es/wp-content/uploads/2022/06/22_06_29_Conviertete-en-planificador-financiero_H.png
END:VEVENT
END:VCALENDAR