BEGIN:VCALENDAR
VERSION:2.0
PRODID:-//IEB - ECPv6.15.20//NONSGML v1.0//EN
CALSCALE:GREGORIAN
METHOD:PUBLISH
X-ORIGINAL-URL:https://www.ieb.es
X-WR-CALDESC:Eventos para IEB
REFRESH-INTERVAL;VALUE=DURATION:PT1H
X-Robots-Tag:noindex
X-PUBLISHED-TTL:PT1H
BEGIN:VTIMEZONE
TZID:Europe/Madrid
BEGIN:DAYLIGHT
TZOFFSETFROM:+0100
TZOFFSETTO:+0200
TZNAME:CEST
DTSTART:20210328T010000
END:DAYLIGHT
BEGIN:STANDARD
TZOFFSETFROM:+0200
TZOFFSETTO:+0100
TZNAME:CET
DTSTART:20211031T010000
END:STANDARD
BEGIN:DAYLIGHT
TZOFFSETFROM:+0100
TZOFFSETTO:+0200
TZNAME:CEST
DTSTART:20220327T010000
END:DAYLIGHT
BEGIN:STANDARD
TZOFFSETFROM:+0200
TZOFFSETTO:+0100
TZNAME:CET
DTSTART:20221030T010000
END:STANDARD
BEGIN:DAYLIGHT
TZOFFSETFROM:+0100
TZOFFSETTO:+0200
TZNAME:CEST
DTSTART:20230326T010000
END:DAYLIGHT
BEGIN:STANDARD
TZOFFSETFROM:+0200
TZOFFSETTO:+0100
TZNAME:CET
DTSTART:20231029T010000
END:STANDARD
END:VTIMEZONE
BEGIN:VEVENT
DTSTART;VALUE=DATE:20220323
DTEND;VALUE=DATE:20220324
DTSTAMP:20260425T163654
CREATED:20220310T124859Z
LAST-MODIFIED:20220311T115703Z
UID:59045-1647993600-1648079999@www.ieb.es
SUMMARY:XV Edición IEB Solidario - IEB con Ucrania
DESCRIPTION:El próximo 23 de marzo celebraremos la XV Edición del IEB Solidario\, un encuentro anual en el que acuden a nuestro centro docenas de Fundaciones y ONG’s\, con el objetivo de dar a conocer a los alumnos y a antiguos alumnos la gran labor que realizan\, sus proyectos y las diferentes formas de colaborar como voluntarios en las mismas. Con esta iniciativa\, tratamos de fomentar que nuestros alumnos puedan dedicar parte de su tiempo a personas necesitadas y a quienes no han tenido la misma oportunidad que ellos. \nEn esta edición\, contaremos con un stand destinado a ayudar a la población de Ucrania en la que se podrán donar mantas\, ropa\, linternas\, pañales\, sacos de dormir o dinero en efectivo. Cualquier clase de ayuda económica o material que pueda ayudar a la población ucraniana en estos momentos difíciles será bien recibida. Los alumnos podrán realizar sus donaciones hasta el 23 de marzo.
URL:https://www.ieb.es/evento/xv-edicion-ieb-solidario-ieb-con-ucrania/
LOCATION:IEB\, Alfonso XI\, 6\, Madrid\, Madrid\, 28004\, España
ATTACH;FMTTYPE=image/png:https://www.ieb.es/wp-content/uploads/2022/03/IEB_Ucrania_H.png
END:VEVENT
END:VCALENDAR