BEGIN:VCALENDAR
VERSION:2.0
PRODID:-//IEB - ECPv6.15.20//NONSGML v1.0//EN
CALSCALE:GREGORIAN
METHOD:PUBLISH
X-WR-CALNAME:IEB
X-ORIGINAL-URL:https://www.ieb.es
X-WR-CALDESC:Eventos para IEB
REFRESH-INTERVAL;VALUE=DURATION:PT1H
X-Robots-Tag:noindex
X-PUBLISHED-TTL:PT1H
BEGIN:VTIMEZONE
TZID:Europe/Madrid
BEGIN:DAYLIGHT
TZOFFSETFROM:+0100
TZOFFSETTO:+0200
TZNAME:CEST
DTSTART:20210328T010000
END:DAYLIGHT
BEGIN:STANDARD
TZOFFSETFROM:+0200
TZOFFSETTO:+0100
TZNAME:CET
DTSTART:20211031T010000
END:STANDARD
BEGIN:DAYLIGHT
TZOFFSETFROM:+0100
TZOFFSETTO:+0200
TZNAME:CEST
DTSTART:20220327T010000
END:DAYLIGHT
BEGIN:STANDARD
TZOFFSETFROM:+0200
TZOFFSETTO:+0100
TZNAME:CET
DTSTART:20221030T010000
END:STANDARD
BEGIN:DAYLIGHT
TZOFFSETFROM:+0100
TZOFFSETTO:+0200
TZNAME:CEST
DTSTART:20230326T010000
END:DAYLIGHT
BEGIN:STANDARD
TZOFFSETFROM:+0200
TZOFFSETTO:+0100
TZNAME:CET
DTSTART:20231029T010000
END:STANDARD
END:VTIMEZONE
BEGIN:VEVENT
DTSTART;TZID=Europe/Madrid:20220318T173000
DTEND;TZID=Europe/Madrid:20220318T190000
DTSTAMP:20260426T000323
CREATED:20220303T132421Z
LAST-MODIFIED:20220303T132421Z
UID:58874-1647624600-1647630000@www.ieb.es
SUMMARY:Jornada de Puertas Abiertas de Grado
DESCRIPTION:Jornada de puertas abiertas de Grado\nDesde el IEB queremos ayudarte a llegar más lejos \n\nConoce nuestra oferta formativa.\nInfórmate del proceso de admisión y becas.\nEscucha testimonios de antiguos alumnos.\nDisfruta de nuestro Campus Tour.\n\n  \nFormulario de Inscripción para la sesión
URL:https://www.ieb.es/evento/jornada-de-puertas-abiertas-de-grado/
LOCATION:IEB\, Alfonso XI\, 6\, Madrid\, Madrid\, 28004\, España
ATTACH;FMTTYPE=image/png:https://www.ieb.es/wp-content/uploads/2022/03/Jornadas_Puertas_Abiertas_2022.png
END:VEVENT
END:VCALENDAR