BEGIN:VCALENDAR
VERSION:2.0
PRODID:-//IEB - ECPv6.15.20//NONSGML v1.0//EN
CALSCALE:GREGORIAN
METHOD:PUBLISH
X-ORIGINAL-URL:https://www.ieb.es
X-WR-CALDESC:Eventos para IEB
REFRESH-INTERVAL;VALUE=DURATION:PT1H
X-Robots-Tag:noindex
X-PUBLISHED-TTL:PT1H
BEGIN:VTIMEZONE
TZID:Europe/Madrid
BEGIN:DAYLIGHT
TZOFFSETFROM:+0100
TZOFFSETTO:+0200
TZNAME:CEST
DTSTART:20210328T010000
END:DAYLIGHT
BEGIN:STANDARD
TZOFFSETFROM:+0200
TZOFFSETTO:+0100
TZNAME:CET
DTSTART:20211031T010000
END:STANDARD
BEGIN:DAYLIGHT
TZOFFSETFROM:+0100
TZOFFSETTO:+0200
TZNAME:CEST
DTSTART:20220327T010000
END:DAYLIGHT
BEGIN:STANDARD
TZOFFSETFROM:+0200
TZOFFSETTO:+0100
TZNAME:CET
DTSTART:20221030T010000
END:STANDARD
BEGIN:DAYLIGHT
TZOFFSETFROM:+0100
TZOFFSETTO:+0200
TZNAME:CEST
DTSTART:20230326T010000
END:DAYLIGHT
BEGIN:STANDARD
TZOFFSETFROM:+0200
TZOFFSETTO:+0100
TZNAME:CET
DTSTART:20231029T010000
END:STANDARD
END:VTIMEZONE
BEGIN:VEVENT
DTSTART;TZID=Europe/Madrid:20220315T160000
DTEND;TZID=Europe/Madrid:20220315T180000
DTSTAMP:20260426T050905
CREATED:20220210T121153Z
LAST-MODIFIED:20220228T114901Z
UID:58280-1647360000-1647367200@www.ieb.es
SUMMARY:La inteligencia emocional: cómo superar problemas y crisis
DESCRIPTION:La inteligencia emocional: cómo superar problemas y crisis\nPonentes: \n\nCarlos Pinto García – Psicólogo clínico y Director del Centro de Día de la CAM\, Rivas-Arganda.\nCarlos de Fuentes – Profesor de Derecho del Trabajo\, IEB. Máster en Orientación Profesional.\n\nFormulario de Inscripción para la sesión
URL:https://www.ieb.es/evento/la-inteligencia-emocional-como-superar-problemas-y-crisis/
LOCATION:IEB\, Alfonso XI\, 6\, Madrid\, Madrid\, 28004\, España
CATEGORIES:Convención / Jornadas
ATTACH;FMTTYPE=image/png:https://www.ieb.es/wp-content/uploads/2022/02/Inteligencia-emocional-_H-nuevo-cartel002.png
END:VEVENT
BEGIN:VEVENT
DTSTART;TZID=Europe/Madrid:20220315T183000
DTEND;TZID=Europe/Madrid:20220315T203000
DTSTAMP:20260426T050905
CREATED:20220221T173249Z
LAST-MODIFIED:20220221T173345Z
UID:58690-1647369000-1647376200@www.ieb.es
SUMMARY:La digitalización e internacionalización de las startups en España
DESCRIPTION:La digitalización e internacionalización de las startups en España\nPonentes: \n\nEnrique Penichet – Founder Partner\, Draper B1\n\n  \nFormulario de Inscripción para la sesión
URL:https://www.ieb.es/evento/la-digitalizacion-e-internacionalizacion-de-las-startups-en-espana/
LOCATION:IEB\, Alfonso XI\, 6\, Madrid\, Madrid\, 28004\, España
CATEGORIES:Convención / Jornadas
ATTACH;FMTTYPE=image/png:https://www.ieb.es/wp-content/uploads/2022/02/La-digitalizacion-e-internacionalizacion-de-las-startups-en-Espana_H.png
END:VEVENT
END:VCALENDAR